BEGIN:VCALENDAR
VERSION:2.0
PRODID:-//Club Vosgien Vallée de Saint-Amarin - ECPv6.1.3//NONSGML v1.0//EN
CALSCALE:GREGORIAN
METHOD:PUBLISH
X-WR-CALNAME:Club Vosgien Vallée de Saint-Amarin
X-ORIGINAL-URL:https://club-vosgien-saint-amarin.fr
X-WR-CALDESC:évènements pour Club Vosgien Vallée de Saint-Amarin
REFRESH-INTERVAL;VALUE=DURATION:PT1H
X-Robots-Tag:noindex
X-PUBLISHED-TTL:PT1H
BEGIN:VTIMEZONE
TZID:Europe/Paris
BEGIN:DAYLIGHT
TZOFFSETFROM:+0100
TZOFFSETTO:+0200
TZNAME:CEST
DTSTART:20240331T010000
END:DAYLIGHT
BEGIN:STANDARD
TZOFFSETFROM:+0200
TZOFFSETTO:+0100
TZNAME:CET
DTSTART:20241027T010000
END:STANDARD
END:VTIMEZONE
BEGIN:VEVENT
DTSTART;TZID=Europe/Paris:20240106T134500
DTEND;TZID=Europe/Paris:20240106T170000
DTSTAMP:20260421T110122
CREATED:20230921T204534Z
LAST-MODIFIED:20240101T201214Z
UID:16746-1704548700-1704560400@club-vosgien-saint-amarin.fr
SUMMARY:*** Sorties skating remplacé par Marche nordique : Le tour d'Oderen
DESCRIPTION:Sortie organisée en remplacement de l’initiation au ski de fond\, pour bien débuter l’année de manière sportive et conviviale.\nLe tour d’Oderen\, un superbe circuit : Maerelberg\, Uhufels\, Baerenberg\, chapelle Notre dame du Bon secours.\n\nDistance 8\,6 km dénivelé 425 mètres.\n\nBâtons mis à disposition en cas de besoin.\nRDV samedi 6 janvier à 13h45 à la chapelle Notre Dame du Bon secours à Oderen.\nInscriptions et renseignements : Joseph PETER 07 63 11 43 88 mailpeterjoseph@gmail.com
URL:https://club-vosgien-saint-amarin.fr/activite/sorties-skating/
LOCATION:ODEREN en face de la chapelle
CATEGORIES:Marche nordique,Sorties ski de fond
ORGANIZER;CN="Joseph%20PETER":MAILTO:mailpeterjoseph@gmail.com
END:VEVENT
BEGIN:VEVENT
DTSTART;TZID=Europe/Paris:20240114T084500
DTEND;TZID=Europe/Paris:20240114T170000
DTSTAMP:20260421T110122
CREATED:20231006T100836Z
LAST-MODIFIED:20240104T203224Z
UID:16869-1705221900-1705251600@club-vosgien-saint-amarin.fr
SUMMARY:*** Sorties hivernales SUR LES HAUTS DU FELSACH
DESCRIPTION:Le Club Vosgien de la Vallée de Saint-Amarin organise une sortie pédestre hivernale sur les Hauts du Felsach. \n Itinéraire : Barrage de Kruth / Wildenstein – Vallon du Bourbach – Chaume du Vinterges – Hauts du Felsach – Frenzbergel (repas) – Frenzloch – Vallon du Bourbach – Barrage de Kruth / Wildenstein. \nDistance 16 km / Dénivelé positif : 825 m  \nLe parcours s’effectue à pied ou en raquettes selon les conditions d’enneigement du moment.\nMatériel à prévoir : raquettes\, cannes\, lampe frontale\, vêtements chauds et imperméables. \n\nRepas et boissons tirés du sac\n\nGuides : Virginie LAMBERT et Joseph PETER \nY aller : RDV à 8h45 parking du barrage de Kruth / Wildenstein en aval du restaurant  « Auberge du lac » \nInscription obligatoire\, nombre de places limité à 15 personnes \n Renseignements : Virginie LAMBERT : 06 01 15 49 98\nJoseph PETER : 07 63 11 43 88 / mailpeterjoseph@gmail.com \nConditions pour participer à cette sortie :\n– Être membre du Club Vosgien Saint Amarin et à jour de sa cotisation (pour le début d’année 2024\, la cotisation 2023 est valable) (possibilité d’adhérer sur place) ;\n– Non-membre accepté moyennant l’achat d’une carte de membre temporaire valable pour la randonnée concernée (incluant une assurance\, coût 2 €).
URL:https://club-vosgien-saint-amarin.fr/activite/sorties-hivernales/
CATEGORIES:Sorties hivernales
END:VEVENT
BEGIN:VEVENT
DTSTART;TZID=Europe/Paris:20240118T090000
DTEND;TZID=Europe/Paris:20240118T170000
DTSTAMP:20260421T110122
CREATED:20231229T215845Z
LAST-MODIFIED:20240101T200431Z
UID:17108-1705568400-1705597200@club-vosgien-saint-amarin.fr
SUMMARY:**/*** SORTIE SENIORS du coté de Geishouse
DESCRIPTION:Le club vosgien vous propose une sortie le 18/01/24 du coté de Geishouse  \nRDV à 08h45 (en tenue ) au parking de la gare de Moosch \nDEPART : 09h00  pour une boucle de 13kms avec 526m de déniv + **/*** \nDéjeuner :   la soupe\, coq au vin nouilles et dessert pour 15€ (hors boissons) \nGuides : Keller Serge et Bissler Raymond \nDélais d’inscription pour le 12/01/24  \nkeller.serge68@orange.fr ou 06 31 76 22 96 \nSelon météo le parcours peut varier. \nCondition pour participer  à cette sortie : être membre du CVSA et  à jour de sa cotisation  ( possibilité d’adhérer sur place ) \n  \n 
URL:https://club-vosgien-saint-amarin.fr/activite/sortie-seniors/
LOCATION:MOOSCH Parking de la gare
CATEGORIES:Sorties seniors
ORGANIZER;CN="Serge%20KELLER":MAILTO:keller.serge68orange.fr
END:VEVENT
BEGIN:VEVENT
DTSTART;TZID=Europe/Paris:20240123T090000
DTEND;TZID=Europe/Paris:20240123T120000
DTSTAMP:20260421T110122
CREATED:20231229T220153Z
LAST-MODIFIED:20240110T171544Z
UID:17110-1706000400-1706011200@club-vosgien-saint-amarin.fr
SUMMARY:FORMATION BALISAGE
DESCRIPTION:Le CVSA organise une initiation au balisage le mardi 23 janvier. \n Lieu de la formation : Siège du Club Vosgien à HUSSEREN-WESSERLING \nHoraires de la formation : 9h00- 12h00 \nAnimateur de la formation : Jean-Marie ALBRECHT \n09h00 : Mot d’accueil du Président.(à confirmer) . \n\nRevue de la charte de balisage.\nInitiation à l’utilisation de Data Haut-Rhin et Geoportail.\nUtilisation de Openrunner.\nEtude de cas sur le terrain (suivant la météo) .\n\n  \nInscriptions obligatoires auprès de :\nJean-Marie ALBRECHT 06 08 51 23 54 ou par mail jeanmarie.albrecht@free.fr \n Dernier délai d’inscription : dimanche 21 janvier.
URL:https://club-vosgien-saint-amarin.fr/activite/formation-balisage/
CATEGORIES:Conférences
ORGANIZER;CN="Jean%20Marie%20ALBRECHT":MAILTO:jeanmarie.albrecht@free.fr
END:VEVENT
BEGIN:VEVENT
DTSTART;TZID=Europe/Paris:20240127T080000
DTEND;TZID=Europe/Paris:20240127T170000
DTSTAMP:20260421T110122
CREATED:20231229T220311Z
LAST-MODIFIED:20240124T203620Z
UID:17112-1706342400-1706374800@club-vosgien-saint-amarin.fr
SUMMARY:***/**** SORTIE SKATING reportée à une date ultérieure
DESCRIPTION:Reportée à une date ultérieure par manque de neige
URL:https://club-vosgien-saint-amarin.fr/activite/sortie-skating/
CATEGORIES:Sorties ski de fond
ORGANIZER;CN="Joseph%20PETER":MAILTO:mailpeterjoseph@gmail.com
END:VEVENT
BEGIN:VEVENT
DTSTART;TZID=Europe/Paris:20240128T084500
DTEND;TZID=Europe/Paris:20240128T170000
DTSTAMP:20260421T110122
CREATED:20231229T220417Z
LAST-MODIFIED:20240117T095719Z
UID:17114-1706431500-1706461200@club-vosgien-saint-amarin.fr
SUMMARY:***/**** SORTIE HIVERNALE: Le Rothenbach DIMANCHE 28 JANVIER 2024
DESCRIPTION:SORTIE HIVERNALE – DIMANCHE 28 JANVIER 2024  \nLe Rothenbach  \nLe CVSA vous propose une sortie hivernale au départ de Wildenstein \nWildenstein place de l’église – Heidenbad – Gefall – Col de l’étang – Source de la Thur – Rainkopf – Rothenbachkopf – Batteriekopf – Neurod – Col du Herrenberg – Huss (déjeuner) – Neufeld – Cascade du Kleinrunz – Grossrunz – Wildenstein \nRendez-vous / lieu de départ: à 8h45 sur le parking de l’église de la commune de Wildenstein 68820.\nCovoiturage : RDV Sur le parking de la gare de Thann à 8 heures \nLa boucle de 14 à 18 km (selon la météo et la neige) environ présente 700 à 800 m de dénivelé positif \nLe parcours sera adapté en fonction de la météo ; Niveau ***/**** étoiles\nLe parcours s’effectue à pied\, à raquettes ou à crampons selon les conditions d’enneigement. \nLe repas sera tiré du sac au refuge du HUSS – Boissons à emporter \nDroit de passage de 2.50€ sera demandé sur place \nInscription obligatoire auprès de :\nClaudine CREPIN  06 04 13 84 27 – crepinclaudine@gmail.com  ou Bernard ZSCHERNIG 06 36 82 26 21. Veuillez indiquer votre numéro de portable\, si inscription par mail. \nDernier délai d’inscription : Samedi 27 janvier \nGuides : Claudine CREPIN et Bernard ZSCHERNIG. \n=> Conditions pour participer à cette sortie:\n– Être membre du Club Vosgien Saint Amarin et à jour de sa cotisation (possibilité d’adhérer sur place) ;\n– Avoir déposé auprès du CVSA un certificat d’aptitude à la pratique de cette activité en cours de validité ;\n– Dans le cas contraire\, il est possible de souscrire une assurance sur place pour 2€.
URL:https://club-vosgien-saint-amarin.fr/activite/sortie-hivernale-le-huss/
LOCATION:Wildenstein Parking de la mairie
CATEGORIES:Sorties hivernales
END:VEVENT
END:VCALENDAR