BEGIN:VCALENDAR
VERSION:2.0
PRODID:-//Club Vosgien Vallée de Saint-Amarin - ECPv6.1.3//NONSGML v1.0//EN
CALSCALE:GREGORIAN
METHOD:PUBLISH
X-ORIGINAL-URL:https://club-vosgien-saint-amarin.fr
X-WR-CALDESC:évènements pour Club Vosgien Vallée de Saint-Amarin
REFRESH-INTERVAL;VALUE=DURATION:PT1H
X-Robots-Tag:noindex
X-PUBLISHED-TTL:PT1H
BEGIN:VTIMEZONE
TZID:Europe/Paris
BEGIN:DAYLIGHT
TZOFFSETFROM:+0100
TZOFFSETTO:+0200
TZNAME:CEST
DTSTART:20250330T010000
END:DAYLIGHT
BEGIN:STANDARD
TZOFFSETFROM:+0200
TZOFFSETTO:+0100
TZNAME:CET
DTSTART:20251026T010000
END:STANDARD
END:VTIMEZONE
BEGIN:VEVENT
DTSTART;TZID=Europe/Paris:20250925T080000
DTEND;TZID=Europe/Paris:20250925T170000
DTSTAMP:20260421T111413
CREATED:20241229T175008Z
LAST-MODIFIED:20250906T200225Z
UID:20347-1758787200-1758819600@club-vosgien-saint-amarin.fr
SUMMARY:** Randonnée séniors : Kandern Egerten
DESCRIPTION:Le CVSA vous propose une sortie le jeudi 25 Septembre 2025 difficulté ** \nParcours proposé : \nMatin : Distance 7\,4 km – Dénivelé + 230m – Temps de marche 3h00\nDépart à 9h00 du Parking de la Mairie de Kandern Waldeckstraße 24 (GPS 47.713606 7.664296)\nEn direction de la Wolfsschluth)\, Zeitweg\, Egerten. \nRepas : repas au Kreiterhof à Egerten au prix de 22€ par personne\, plat\, dessert et café boisson en SUS.\nIl n’y a pas de bière ! \nAprès-midi : Distance 7\,3km – Dénivelé + 157m – Temps de marche 3h00\nPlanetenweg\, Kandern. \nGuides : Yves Ziegler 06 17 67 74 91 Alexandre Bertocchi \nInscription obligatoire auprès de Yves Ziegler au 06 17 67 74 91 après 18h00 de préférence par Mail yves5758@gmail.com Délai : le 22 09 2025 Attention ! Il faudra payer en liquide au restaurant\, merci d’avance d’éviter les grosses coupures. \nDistance totale : env. 14.7 km avec un dénivelé positif de 387 m \nDépart : Parking Mairie de Kandern Waldeckstraße 24 (GPS 47.713606 7.664296) à 9h00 \nPossibilité de co-voiturage : RDV sur le parking Espace culturel Leclerc Cernay à 8h10 puis à l’Intermarché de Chalampé Intermarché station-service Chalampé\nAv. de la Gare\, 68490 à 8h40. \nConditions pour participer à cette sortie :\n– Être membre du Club Vosgien de Saint-Amarin et à jour de cotisation (possibilité d’adhérer sur place)\n– Non-membre accepté moyennant l’achat d’une carte de membre temporaire valable uniquement pour la randonnée concernée (incluant une assurance\, coût 2 €). \nDépart de la sortie \nPlan de la sortie
URL:https://club-vosgien-saint-amarin.fr/activite/randonnee-seniors-orschwihr-val-du-patre/
CATEGORIES:Sorties seniors
ORGANIZER;CN="Yves%20ZIEGLER":MAILTO:yves5758@gmail.com
END:VEVENT
END:VCALENDAR