BEGIN:VCALENDAR
VERSION:2.0
PRODID:-//Club Vosgien Vallée de Saint-Amarin - ECPv6.1.3//NONSGML v1.0//EN
CALSCALE:GREGORIAN
METHOD:PUBLISH
X-ORIGINAL-URL:https://club-vosgien-saint-amarin.fr
X-WR-CALDESC:évènements pour Club Vosgien Vallée de Saint-Amarin
REFRESH-INTERVAL;VALUE=DURATION:PT1H
X-Robots-Tag:noindex
X-PUBLISHED-TTL:PT1H
BEGIN:VTIMEZONE
TZID:Europe/Paris
BEGIN:DAYLIGHT
TZOFFSETFROM:+0100
TZOFFSETTO:+0200
TZNAME:CEST
DTSTART:20250330T010000
END:DAYLIGHT
BEGIN:STANDARD
TZOFFSETFROM:+0200
TZOFFSETTO:+0100
TZNAME:CET
DTSTART:20251026T010000
END:STANDARD
END:VTIMEZONE
BEGIN:VEVENT
DTSTART;TZID=Europe/Paris:20250904T095000
DTEND;TZID=Europe/Paris:20250904T170000
DTSTAMP:20260419T160811
CREATED:20241229T174214Z
LAST-MODIFIED:20250825T193443Z
UID:20333-1756979400-1757005200@club-vosgien-saint-amarin.fr
SUMMARY:** Randonnée séniors Massif du Ronfaing
DESCRIPTION:SORTIE SENIORS*** DU JEUDI 4 SEPTEMBRE 2025\nsur les hauteurs de La Bresse – Massif du Rondfaing \nLe CVSA vous propose une sortie le jeudi 4 septembre 2025 sur les hauteurs de La Bresse. \nParcours :\nMatin : Col de la Croix des Moinats (890 m) – Haut de Presles – Tourbière du Rondfaing – La Pierre des 4 Communes (1 059 m) et sa table d’orientation – Chalet des Charmes (973 m)\nPause de midi\nAprès-midi : Tourbière de Jemnaufaing – Haut du Raindé – La Roche des Chats (1 005 m) – Retour au col de la Croix des Moinats vers 15 h 30/16 h \nDifficulté : Randonnée **  \nGuides : Bernard THEILER  \nDistance : env. 9 km  \nRDV jeudi 4 septembre 2025 à 09 h 50 au col des Croix de Moinats pour un départ de la randonnée à 10 h 00  \nPossibilité de co-voiturage : RDV sur le parking après la gare de Wesserling à 8 h 50 pour départ à 09 h 00 \nRepas et boissons : tirées du sac au chalet des Charmes \nRenseignements et inscription obligatoire auprès de Bernard THEILLER : Tél : 06.11.79.43.84 ou mail bernard.theiller@orange.fr \nDate d’inscription : avant le 2 septembre 2025 à 18 h \nConditions pour participer à cette sortie :\n– Être membre du Club Vosgien de Saint Amarin et à jour de cotisation (possibilité d’adhérer sur place)\n– Non-membre accepté moyennant l’achat d’une carte de membre temporaire valable uniquement pour la randonnée concernée (incluant une assurance\, coût 2 €).
URL:https://club-vosgien-saint-amarin.fr/activite/randonnee-seniors-massif-du-ronfaing/
CATEGORIES:Sorties seniors
ORGANIZER;CN="Bernard%20THEILLER":MAILTO:bernard.theiller@orange.fr
END:VEVENT
END:VCALENDAR