BEGIN:VCALENDAR
VERSION:2.0
PRODID:-//Club Vosgien Vallée de Saint-Amarin - ECPv6.1.3//NONSGML v1.0//EN
CALSCALE:GREGORIAN
METHOD:PUBLISH
X-ORIGINAL-URL:https://club-vosgien-saint-amarin.fr
X-WR-CALDESC:évènements pour Club Vosgien Vallée de Saint-Amarin
REFRESH-INTERVAL;VALUE=DURATION:PT1H
X-Robots-Tag:noindex
X-PUBLISHED-TTL:PT1H
BEGIN:VTIMEZONE
TZID:Europe/Paris
BEGIN:DAYLIGHT
TZOFFSETFROM:+0100
TZOFFSETTO:+0200
TZNAME:CEST
DTSTART:20250330T010000
END:DAYLIGHT
BEGIN:STANDARD
TZOFFSETFROM:+0200
TZOFFSETTO:+0100
TZNAME:CET
DTSTART:20251026T010000
END:STANDARD
END:VTIMEZONE
BEGIN:VEVENT
DTSTART;TZID=Europe/Paris:20250522T083000
DTEND;TZID=Europe/Paris:20250522T170000
DTSTAMP:20260421T173137
CREATED:20241228T210352Z
LAST-MODIFIED:20250514T202655Z
UID:20297-1747902600-1747933200@club-vosgien-saint-amarin.fr
SUMMARY:*** Randonnée séniors Plombières les Bains
DESCRIPTION:SORTIE SENIORS*** DU JEUDI 22 MAI 2025  \nà PLOMBIERES-LES-BAINS \nLe CVSA vous propose une sortie le jeudi 22 mai 2025 à la découverte de la ville thermale de Plombières-les-Bains\, à 13 km de Remiremont. \nParcours proposé : Le matin découverte de la promenade des Dames et la fontaine Stanislas – 6 km.  \nL’après-midi\, visite commentée de la ville par M. Robert JACQUOT\, président du CV Remiremont\, avec découverte des sites et lieux les plus important de la ville\, ainsi que le magnifique parc miniature où le temps d’une visite\, vous vous transformerez en géant et découvrirez les reproductions exceptionnelles de monuments du patrimoine alsacien et lorrain. \nGuides : Bernard THEILER et Robert JACQUOT\, président du CV de Remiremont \nDistance : env. 6 km + visite de la ville l’après-midi \nRDV jeudi 22 mai à 10 h 00\, parking ombragé à l’entrée de Plombières les Bains sur la départementale 157\nPossibilité de co-voiturage : RDV sur le parking après la gare de Wesserling à 8 h 20 pour départ à 8 h 30 \nSe rendre à Plombières-les-Bains : Au départ de Wesserling\, se rendre à Remiremont \, puis prendre N 57 direction Luxeuil les Bains – Lure . Prendre sortie Plombières par la départementale 157 à droite. \nRepas et boissons tirées du sac sous abri. \nRenseignements et inscription obligatoire auprès de Bernard THEILLER : Tél : 06.11.79.43.84 ou mail bernard.theiller@orange.fr \nDate d’inscription : avant le 20 mai 2025 à 18 h\nPlaces limitées à 20 personnes. \nConditions pour participer à cette sortie :\n– Être membre du Club Vosgien de Saint Amarin et à jour de cotisation (possibilité d’adhérer sur place)\n– Non-membre accepté moyennant l’achat d’une carte de membre temporaire valable uniquement pour la randonnée concernée (incluant une assurance\, coût 2 €).
URL:https://club-vosgien-saint-amarin.fr/activite/randonnee-seniors-plombieres-les-bains/
LOCATION:Wesserling parking de la piscine
CATEGORIES:Sorties seniors
ORGANIZER;CN="Bernard%20THEILLER":MAILTO:bernard.theiller@orange.fr
END:VEVENT
END:VCALENDAR