BEGIN:VCALENDAR
VERSION:2.0
PRODID:-//Club Vosgien Vallée de Saint-Amarin - ECPv6.1.3//NONSGML v1.0//EN
CALSCALE:GREGORIAN
METHOD:PUBLISH
X-WR-CALNAME:Club Vosgien Vallée de Saint-Amarin
X-ORIGINAL-URL:https://club-vosgien-saint-amarin.fr
X-WR-CALDESC:évènements pour Club Vosgien Vallée de Saint-Amarin
REFRESH-INTERVAL;VALUE=DURATION:PT1H
X-Robots-Tag:noindex
X-PUBLISHED-TTL:PT1H
BEGIN:VTIMEZONE
TZID:Europe/Paris
BEGIN:DAYLIGHT
TZOFFSETFROM:+0100
TZOFFSETTO:+0200
TZNAME:CEST
DTSTART:20250330T010000
END:DAYLIGHT
BEGIN:STANDARD
TZOFFSETFROM:+0200
TZOFFSETTO:+0100
TZNAME:CET
DTSTART:20251026T010000
END:STANDARD
END:VTIMEZONE
BEGIN:VEVENT
DTSTART;TZID=Europe/Paris:20250424T090000
DTEND;TZID=Europe/Paris:20250424T170000
DTSTAMP:20260421T193010
CREATED:20241228T172458Z
LAST-MODIFIED:20250414T195839Z
UID:20279-1745485200-1745514000@club-vosgien-saint-amarin.fr
SUMMARY:**/*** Randonnée séniors LINTHAL DU 24/04/2025
DESCRIPTION:SORTIE LINTHAL DU 24/04/25 \nLe club vosgien vous propose une sortie le 24/04/25 du coté de Linthal  \nRDV :  8h45  (en tenue ) au parking de l’église de Linthal \nDEPART : 09h00 pour une marche de 13 kms avec 659m dénivelé +  **/*** \nDéjeuner :   Chalet amis des Vosges de Wittenheim\nMenu :    casse-croûte à emporter\nBoissons à prendre au chalet + droit de passage \nGuides : Keller Serge et Bissler Raymond \nDélais d’inscription pour le 21/04/25 .  \n keller.serge68@orange.fr ou 06 31 76 22 96 \nSelon météo le parcours peut varier. \nCondition pour participer  à cette sortie : être membre du CVSA et  à jour de sa cotisation  ( possibilité d’adhérer sur place )
URL:https://club-vosgien-saint-amarin.fr/activite/randonnee-seniors-2/
CATEGORIES:Sorties seniors
ORGANIZER;CN="Serge%20KELLER":MAILTO:keller.serge68orange.fr
END:VEVENT
END:VCALENDAR