BEGIN:VCALENDAR
VERSION:2.0
PRODID:-//Club Vosgien Vallée de Saint-Amarin - ECPv6.1.3//NONSGML v1.0//EN
CALSCALE:GREGORIAN
METHOD:PUBLISH
X-ORIGINAL-URL:https://club-vosgien-saint-amarin.fr
X-WR-CALDESC:évènements pour Club Vosgien Vallée de Saint-Amarin
REFRESH-INTERVAL;VALUE=DURATION:PT1H
X-Robots-Tag:noindex
X-PUBLISHED-TTL:PT1H
BEGIN:VTIMEZONE
TZID:Europe/Paris
BEGIN:DAYLIGHT
TZOFFSETFROM:+0100
TZOFFSETTO:+0200
TZNAME:CEST
DTSTART:20250330T010000
END:DAYLIGHT
BEGIN:STANDARD
TZOFFSETFROM:+0200
TZOFFSETTO:+0100
TZNAME:CET
DTSTART:20251026T010000
END:STANDARD
END:VTIMEZONE
BEGIN:VEVENT
DTSTART;TZID=Europe/Paris:20250316T090000
DTEND;TZID=Europe/Paris:20250316T170000
DTSTAMP:20260421T211303
CREATED:20241228T171054Z
LAST-MODIFIED:20250305T171254Z
UID:20259-1742115600-1742144400@club-vosgien-saint-amarin.fr
SUMMARY:** Randonnée au cœur du Florival le dimanche 16 mars
DESCRIPTION:Le Club Vosgien vous invite à une randonnée au cœur du Florival le dimanche 16 mars\nDescriptif du parcours :\nDépart ; Rimbach-près-Guebwiller\, parking situé 150 m avant l’entrée du village sur la D 51 devant l’oratoire.\nHoraire : 9 h 00\nCovoiturage. 8 h 25 THANN\, parking MATCH\, rue du Général de Gaulle.\nDistance et dénivelé :  Ke 17\,8 classée * *\, pas de difficulté particulière\nmatin               7\,3 km\, D+ 560 m D- 302 m\,\naprès-midi       3\,6 km\, D+   85 m D- 334 m. \nDéjeuner à la ferme-auberge de la Glashûtte. 22\,00 € hors boissons\nPotage\, viande fumée accompagnée de Roïgebrageldi\, salade verte\, dessert. \nInscription obligatoire avant le jeudi 13 mars prochain auprès du guide :\nBernard MAURAN 06 76 70 03 03 bernyrando@free.fr\nSi pas de réponse immédiate\, laissez vos coordonnées (tel\, nom et prénom)\, je vous rappelle. \nCondition pour participer à cette sortie :\nÊtre membre du CVSA à jour de sa cotisation\, possibilité d’adhérer sur place ou de bénéficier d’une carte découverte à 2 €\, valable uniquement pour cette randonnée. \nLa participation à une randonnée est un acte volontaire qui engage votre responsabilité\, vous vous déclarez en bonne santé\, apte à effectuer la randonnée ci-dessus classée * * et dégagez l’organisateur de toute responsabilité autre que celle inhérente à sa qualité de GRP. \nVotre participation vaut acceptation des conditions de participation. \n                                                                  On ne va jamais aussi loin que\n                                                                  lorsque l’on ne sait pas où l’on va.  \n                                                                  Christophe Colomb \nLa ferme-auberge de la Glashütte est gérée par la même famille depuis environ 3 générations\, chacune a apporté sa pierre à l’édifice\, sa pérennité témoigne d’un attachement profond aux traditions régionales qui vise à préserver un patrimoine culinaire et paysager dans le respect des conditions agricoles \nAu départ de Rimbach-près-Guebwiller\, charmant village niché au cœur du Florival\, nous cheminons pour une aventure qui nous mènera à travers des paysages variés. En chemin\, le col de Peternit à 566 m\, puis le Munsteraeckerle* à 665 m\, puis monterons jusqu’au majestueux Lesbochkopf à 981 m\, véritable balcon sur les Vosges. \nUne petite halte rafraîchissante à la fontaine de Schlumberger\, située près du col du Judenhut* et continuer dans la forêt de Belchenwald à travers  un agréable sentier qui nous mène directement à la ferme-auberge de la Glashütte\, où une récompense gourmande nous attend. Après nous être convenablement restauré et avoir bien récupéré de nos efforts matinaux\, nouvelle immersion dans la nature pour rejoindre notre point de départ au terme d’un tracé digestif sans dénivelé positif significatif. \nLe Judenhut\nLe sommet appelé “Judenhut” en Alsace tire probablement son nom de la forme caractéristique du chapeau juif médiéval\, le Judenhut. Ce chapeau pointu en forme de cône ou d’entonnoir renversé a été imposé aux Juifs dans l’Europe médiévale pour les distinguer des chrétiens. La ressemblance entre la forme du sommet et celle du chapeau pourrait être à l’origine de ce nom. \nFontaine Schlumberger :\nCette fontaine est réputée pour couler en abondance toute l’année. Bien que l’eau ne soit pas officiellement contrôlée\, elle est appréciée et utilisée depuis longtemps par les randonneurs locaux. Elle est également très proche de l’abri du Judenhut\, un refuge non gardé situé à 973 mètres d’altitude.
URL:https://club-vosgien-saint-amarin.fr/activite/randonnee-seniors-lac-du-ballon-depuis-guebwiller/
CATEGORIES:Sorties seniors
ORGANIZER;CN="Bernard%20MAURAN":MAILTO:bernyrando@free.fr
END:VEVENT
END:VCALENDAR