BEGIN:VCALENDAR
VERSION:2.0
PRODID:-//Club Vosgien Vallée de Saint-Amarin - ECPv6.1.3//NONSGML v1.0//EN
CALSCALE:GREGORIAN
METHOD:PUBLISH
X-WR-CALNAME:Club Vosgien Vallée de Saint-Amarin
X-ORIGINAL-URL:https://club-vosgien-saint-amarin.fr
X-WR-CALDESC:évènements pour Club Vosgien Vallée de Saint-Amarin
REFRESH-INTERVAL;VALUE=DURATION:PT1H
X-Robots-Tag:noindex
X-PUBLISHED-TTL:PT1H
BEGIN:VTIMEZONE
TZID:Europe/Paris
BEGIN:DAYLIGHT
TZOFFSETFROM:+0100
TZOFFSETTO:+0200
TZNAME:CEST
DTSTART:20240331T010000
END:DAYLIGHT
BEGIN:STANDARD
TZOFFSETFROM:+0200
TZOFFSETTO:+0100
TZNAME:CET
DTSTART:20241027T010000
END:STANDARD
END:VTIMEZONE
BEGIN:VEVENT
DTSTART;TZID=Europe/Paris:20241212T084500
DTEND;TZID=Europe/Paris:20241212T170000
DTSTAMP:20260422T021541
CREATED:20240102T215908Z
LAST-MODIFIED:20241128T213429Z
UID:17256-1733993100-1734022800@club-vosgien-saint-amarin.fr
SUMMARY:*** SORTIE SENIORS: NOËL
DESCRIPTION:Le club vosgien vous propose une sortie le 12/12/24 du côté de Geishouse. \nRDV à 08h45 (en tenue) au parking de la gare de Moosch \nDEPART : 09h00 pour un circuit de 12 kms avec 529m de déniv + **/*** \nDéjeuner :\nTarte aux poireaux : avec saumon ou jambon\nNoix de veau avec plusieurs légumes\nTarte à la rhubarbe ou autre fruit \nLe tout pour 25€/personne hors boissons \nLors de votre inscription précisez votre choix pour l’entrée \nGuides : Keller Serge et Bissler Raymond \nDélais d’inscription pour le 08/12/24 \nkeller.serge68@orange.fr ou 06 31 76 22 96 \nSelon météo le parcours peut varier.  \nCondition pour participer à cette sortie : être membre du CVSA et à jour de sa cotisation (possibilité d’adhérer sur place)
URL:https://club-vosgien-saint-amarin.fr/activite/sortie-seniors-noel/
LOCATION:MOOSCH Parking de la gare
CATEGORIES:Sorties seniors
ORGANIZER;CN="Serge%20KELLER":MAILTO:keller.serge68orange.fr
END:VEVENT
END:VCALENDAR