BEGIN:VCALENDAR
VERSION:2.0
PRODID:-//Club Vosgien Vallée de Saint-Amarin - ECPv6.1.3//NONSGML v1.0//EN
CALSCALE:GREGORIAN
METHOD:PUBLISH
X-WR-CALNAME:Club Vosgien Vallée de Saint-Amarin
X-ORIGINAL-URL:https://club-vosgien-saint-amarin.fr
X-WR-CALDESC:évènements pour Club Vosgien Vallée de Saint-Amarin
REFRESH-INTERVAL;VALUE=DURATION:PT1H
X-Robots-Tag:noindex
X-PUBLISHED-TTL:PT1H
BEGIN:VTIMEZONE
TZID:Europe/Paris
BEGIN:DAYLIGHT
TZOFFSETFROM:+0100
TZOFFSETTO:+0200
TZNAME:CEST
DTSTART:20240331T010000
END:DAYLIGHT
BEGIN:STANDARD
TZOFFSETFROM:+0200
TZOFFSETTO:+0100
TZNAME:CET
DTSTART:20241027T010000
END:STANDARD
END:VTIMEZONE
BEGIN:VEVENT
DTSTART;TZID=Europe/Paris:20240905T084500
DTEND;TZID=Europe/Paris:20240905T170000
DTSTAMP:20260422T085805
CREATED:20231018T201038Z
LAST-MODIFIED:20240825T163400Z
UID:16926-1725525900-1725555600@club-vosgien-saint-amarin.fr
SUMMARY:*** Sortie Séniors Marche Sapois (piquante Pierre Roches St Jacques Tourbière Champâtre)
DESCRIPTION:Le CVSA vous propose une sortie vosgienne le jeudi 5 septembre 2024 à PLANOIS.\nPlanois est un très joli petit village situé dans la vallée de Basse sur le Rupt à 642 m d’altitude à environ. \nParcours proposé :\nDépart en montée en sous-bois. Sur le trajet deux magnifique promontoire avec belle vue sur Planois.\n1er point culminant à 1008 m d’altitude au Mémorial Monolithe de la guerre de 1944 au lieudit Pierre Piquante avec vue de 360° sur les proches alentours. Puis descente vers Col de Menufosse à 966 m.\nPause repas et boissons tirés du sac sous abri randonneurs\nL’après-midi\, départ vers les Roches St Jacques à P-C 1026 m d’altitude et Tourbière du Champâtre à 1000 m d’altitude. Deux sites de curiosités naturelles et sauvages d’intérêt. Puis passage à côté de la tourbière car zone protégée et de tranquillité sur un joli sentier circulaire en forêt. Le retour se fera par les Plateaux\, lieu-dit à 900 m et col de Fouchure à 844 m avant le retour sur Planois par Les Roches Plates\, belle curiosité impressionnante. \nDistance : env. 12\,3 km (matin : 5\,6 km\, après-midi : 6\,7 km) \nDurée de la randonnée : environ 6 h 15 \nGuides : Bernard THEILER  \nRDV sur place à 8 h 45 (deux parkings\, un à côté de l’église et l’autre à la mairie à gauche après église sur D 34). Distance jusqu’à Planois : 40 km \nPossibilité de co-voiturage : RDV sur le parking après la gare de Wesserling à 7 h 50 pour départ à 8 h 00 \nRenseignements et inscription obligatoire auprès de Bernard THEILLER : Tél : 06.11.79.43.84 ou mail bernard.theiller@orange.fr \nDate d’inscription : au plus tard mardi 3 septembre 2024 à 19 h \nConditions pour participer à cette sortie :\n– Être membre du Club Vosgien de Saint Amarin et à jour de cotisation (possibilité d’adhérer sur place)\n– Non-membre accepté moyennant l’achat d’une carte de membre temporaire valable uniquement pour la randonnée concernée (incluant une assurance\, coût 2 €).
URL:https://club-vosgien-saint-amarin.fr/activite/sortie-seniors-marche-sapois-piquante-pierre-roches-st-jacques-tourbiere-champatre/
CATEGORIES:Sorties seniors
ORGANIZER;CN="Bernard%20THEILLER":MAILTO:bernard.theiller@orange.fr
END:VEVENT
END:VCALENDAR