BEGIN:VCALENDAR
VERSION:2.0
PRODID:-//Club Vosgien Vallée de Saint-Amarin - ECPv6.1.3//NONSGML v1.0//EN
CALSCALE:GREGORIAN
METHOD:PUBLISH
X-WR-CALNAME:Club Vosgien Vallée de Saint-Amarin
X-ORIGINAL-URL:https://club-vosgien-saint-amarin.fr
X-WR-CALDESC:évènements pour Club Vosgien Vallée de Saint-Amarin
REFRESH-INTERVAL;VALUE=DURATION:PT1H
X-Robots-Tag:noindex
X-PUBLISHED-TTL:PT1H
BEGIN:VTIMEZONE
TZID:Europe/Paris
BEGIN:DAYLIGHT
TZOFFSETFROM:+0100
TZOFFSETTO:+0200
TZNAME:CEST
DTSTART:20230326T010000
END:DAYLIGHT
BEGIN:STANDARD
TZOFFSETFROM:+0200
TZOFFSETTO:+0100
TZNAME:CET
DTSTART:20231029T010000
END:STANDARD
END:VTIMEZONE
BEGIN:VEVENT
DTSTART;TZID=Europe/Paris:20230907T080000
DTEND;TZID=Europe/Paris:20230907T170000
DTSTAMP:20260425T233813
CREATED:20221105T172550Z
LAST-MODIFIED:20230826T160726Z
UID:14211-1694073600-1694106000@club-vosgien-saint-amarin.fr
SUMMARY:**/*** Sortie Séniors LE HAUT DU TÔT
DESCRIPTION:Le club Vosgien de St Amarin (CVSA) propose une marche Vosgienne sur les hauteurs de Vagney au Haut du TÔT le jeudi 7 Septembre   \nrendez-vous près du parking de la piscine de Wesserling à 8h00 départ à 8h10 possible de covoiturer . Ou RdV au Col de la croix des Hêtres à 781m à 6 km de Vagney pour 9h00 . Niveau 2 étoiles parcours assez facile .  \nDépart  par table d’orientation du Moyenmont 864 m très belle vue à 360° \, Croix de l’An 2000 843m \, les Jardins de Bernardette expo photos – collet la Sautière 923m–circuit chambre du Loup- retour la Sautirère-Le Haut du TÔT- \nRepas tiré du sac\, boisson à prendre sur place au Bar du Grissard tables bancs sur place en extérieur – AM Cascade de la Pissoire magnifique à 723m . Retour au Col Croix des Hêtres \,longueur parcours 13km dén 243 m + durée 5h00  \nInscription jusqu’au 5 Septembre auprès de Bernard Theiller Tél.06.11.79.43.84 Mail : bernard.theiller@orange.fr il faut être membre du CVSA et à jour de cotisation
URL:https://club-vosgien-saint-amarin.fr/activite/sortie-seniors-le-haut-du-tot/
LOCATION:Wesserling parking de la piscine
CATEGORIES:Randonnées,Sorties seniors
ORGANIZER;CN="Bernard%20THEILLER":MAILTO:bernard.theiller@orange.fr
END:VEVENT
END:VCALENDAR