BEGIN:VCALENDAR
VERSION:2.0
PRODID:-//Club Vosgien Vallée de Saint-Amarin - ECPv6.1.3//NONSGML v1.0//EN
CALSCALE:GREGORIAN
METHOD:PUBLISH
X-WR-CALNAME:Club Vosgien Vallée de Saint-Amarin
X-ORIGINAL-URL:https://club-vosgien-saint-amarin.fr
X-WR-CALDESC:évènements pour Club Vosgien Vallée de Saint-Amarin
REFRESH-INTERVAL;VALUE=DURATION:PT1H
X-Robots-Tag:noindex
X-PUBLISHED-TTL:PT1H
BEGIN:VTIMEZONE
TZID:Europe/Paris
BEGIN:DAYLIGHT
TZOFFSETFROM:+0100
TZOFFSETTO:+0200
TZNAME:CEST
DTSTART:20250330T010000
END:DAYLIGHT
BEGIN:STANDARD
TZOFFSETFROM:+0200
TZOFFSETTO:+0100
TZNAME:CET
DTSTART:20251026T010000
END:STANDARD
END:VTIMEZONE
BEGIN:VEVENT
DTSTART;TZID=Europe/Paris:20250213T080000
DTEND;TZID=Europe/Paris:20250213T170000
DTSTAMP:20260421T210046
CREATED:20241228T165706Z
LAST-MODIFIED:20250202T103213Z
UID:20239-1739433600-1739466000@club-vosgien-saint-amarin.fr
SUMMARY:** Randonnée Thannerhubel
DESCRIPTION:Vous invite à une randonnée sur la montagne des Divinités oubliées  \nLe massif du Thanner Hubel le jeudi 13 février 2025. \nDescriptif du parcours\, \nDépart : Col du Hundsruck. Martisplatz\, Refuge du Roosberg\, Vogelstein\, ferme auberge du Gzang\, Waldmatt\, refuge du SCVT – Ferme auberge du Thanner Hubel\, et Col du Hundsruck. \nPlan de la sortie \nDistance :  Matin 8\,2 km\, après-midi 2\,9 km  \nDénivelé positif : 570 mètres\, kilomètre effort 16\,8 \nDifficulté : Randonnée sans difficulté particulière\, classée * *\nEn fonction des conditions météo\, l’usage de crampons peut s’avérer utiles. \nRepas et boissons : tiré du sac au refuge du SCVT du Thanner\,\nDéjeuner en partie tiré du sac.\nLe SCVT nous propose soupe\, pâtisserie et café\, 6 €\,\nPossibilité de réchauffer notre plat principal\,\nBoissons obligatoirement prises auprès du refuge. \nHoraire et lieu de départ  : 9 h 00 au parking du Hundsruck  \nCovoiturage 8 h 30\, place de la salle des fêtes de Bitschwiller-lèz-Thann \nGuide \, accompagnateur : Mauran Bernard –  \nInscription obligatoire : Auprès de Bernard Mauran Téléphone : 06 76 70 03 03 ou par mail : bernyrando@free.fr \nConditions pour participer à cette sortie : \n\nÊtre membre du Club Vosgien de Saint-Amarin et à jour de cotisation (possibilité d’adhérer sur place)\nNon-membre accepté moyennant la signature d’une “fiche de participation à une activité CVSA” justifiant de la non contre-indication à la pratique d’une activité sportive et valable uniquement pour la sortie concernée (incluant une assurance\, coût 2 €).\n\nCol du Hundsrück \nMentionné dès 1550 sous le nom de Hundsruggen\, ce col est un passage historique. Le sentier\, composé principalement de pierres rouges issues de l’activité volcanique (lave de rhyolite rouge brun)\, offre de magnifiques points de vue sur la vallée de la Doller et la plaine. \nChaumes et chalet du Roosberg \nMentionné en 1550\, avec des vues splendides sur la vallée de la Thur et les villages de la haute vallée. \nVogelsteines \nDes arêtes de grauwacke tombant à pic d’environ 40 m\, offrant un superbe panorama sur la vallée de la Doller\, le Belacker et le Fuchsfelsen. \nRocher du Corbeau \nLe corbeau a une riche symbolique dans de nombreuses cultures\, y compris en Alsace. En tant que divinité païenne\, le corbeau est souvent vu comme un médiateur entre le monde des dieux et celui des hommes\, ainsi qu’entre le monde des vivants et celui des morts. \nDans la mythologie celtique\, le corbeau est associé à des déesses comme Morrigan\, la déesse de la guerre et de la souveraineté\, qui se transformait souvent en corbeau pour annoncer la mort et la victoire sur les champs de bataille. En Alsace\, cette symbolique pourrait être liée à des croyances similaires\, où le corbeau est perçu comme un messager des dieux et un porteur de sagesse.Portant les noms de Hinderer Krapenfels (960 m\, 60 m de hauteur) et Unterrer ou Vorderer Krapenfels (760 m\, 40 m de hauteur). Ensuite\, le parcours emprunte un chemin sous bois avant de déboucher sur les chaumes de la ferme-auberge du Gsang (1100 m)\, probablement installée au début du 18e siècle. \nViel Hêtre et refuge du Sky Club \nUn peu plus loin sur le chaume\, courte ascension apéritive vers le Viel Hêtre et les bâtiments agricoles de la ferme de la Waldmatt\, suivie d’une dernière zone boisée avant d’atteindre le refuge du Sky Club.
URL:https://club-vosgien-saint-amarin.fr/activite/randonnee-seniors-thannerhubel/
CATEGORIES:Sorties seniors
ORGANIZER;CN="Bernard%20MAURAN":MAILTO:bernyrando@free.fr
END:VEVENT
BEGIN:VEVENT
DTSTART;TZID=Europe/Paris:20250227T083000
DTEND;TZID=Europe/Paris:20250227T170000
DTSTAMP:20260421T210046
CREATED:20241228T170244Z
LAST-MODIFIED:20250218T201749Z
UID:20247-1740645000-1740675600@club-vosgien-saint-amarin.fr
SUMMARY:**/*** Randonnée séniors Hirtzenstein
DESCRIPTION:SORTIE HIRTZENSTEIN DU 27/02/25 \nLe club vosgien vous propose une sortie le 27/02/25 du côté du Hirtzenstein  \nRDV : à 8h30 (en tenue) au parking Kraft à Wattwiller \nDEPART : 08h45 pour une marche de 12 kms avec 450m dénivelé + **/*** \nDéjeuner : Domaine du Hirtz \nMenu : 17\,50 € sans boissons \nSoupe paysanne\, dés de saucisse fumée\, pennes aux petits légumes avec sauce parmesan\, mousse chocolat banane \nGuides : Keller Serge et Bissler Raymond \nDélais d’inscription pour le 23/02/25 .  \nkeller.serge68@orange.fr ou 06 31 76 22 96 \nSelon météo le parcours peut varier.  \nCondition pour participer à cette sortie : être membre du CVSA et à jour de sa cotisation (possibilité d’adhérer sur place)
URL:https://club-vosgien-saint-amarin.fr/activite/randonnee-seniors-hirtzenstein/
CATEGORIES:Sorties seniors
ORGANIZER;CN="Serge%20KELLER":MAILTO:keller.serge68orange.fr
END:VEVENT
END:VCALENDAR