BEGIN:VCALENDAR
VERSION:2.0
PRODID:-//Club Vosgien Vallée de Saint-Amarin - ECPv6.1.3//NONSGML v1.0//EN
CALSCALE:GREGORIAN
METHOD:PUBLISH
X-WR-CALNAME:Club Vosgien Vallée de Saint-Amarin
X-ORIGINAL-URL:https://club-vosgien-saint-amarin.fr
X-WR-CALDESC:évènements pour Club Vosgien Vallée de Saint-Amarin
REFRESH-INTERVAL;VALUE=DURATION:PT1H
X-Robots-Tag:noindex
X-PUBLISHED-TTL:PT1H
BEGIN:VTIMEZONE
TZID:Europe/Paris
BEGIN:DAYLIGHT
TZOFFSETFROM:+0100
TZOFFSETTO:+0200
TZNAME:CEST
DTSTART:20250330T010000
END:DAYLIGHT
BEGIN:STANDARD
TZOFFSETFROM:+0200
TZOFFSETTO:+0100
TZNAME:CET
DTSTART:20251026T010000
END:STANDARD
END:VTIMEZONE
BEGIN:VEVENT
DTSTART;TZID=Europe/Paris:20250123T090000
DTEND;TZID=Europe/Paris:20250123T170000
DTSTAMP:20260421T224428
CREATED:20241219T214252Z
LAST-MODIFIED:20250114T202155Z
UID:20210-1737622800-1737651600@club-vosgien-saint-amarin.fr
SUMMARY:*** Sortie le 23/01/25 du côté de Michelbach
DESCRIPTION:SORTIE MICHELBACH DU 23/01/2025 \nLe club vosgien vous propose une sortie le 23/01/25 du côté de Michelbach / pont d’Aspach.  \nRDV : à 8h45 (en tenue ) au parking du stade de foot – rue du Rossberg à Aspach le Haut \nDEPART : 09h00 pour une marche de 16 kms avec 120m dénivelé + facile * \nDéjeuner : Restaurant au Pont D’Aspach \nMenu : entrée au choix \, deux plats au choix et dessert au choix\nLe menu à 19\,50 € sans les boissons  \nGuides : Keller Serge et Bissler Raymond \nDélai d’inscription pour le 19/01/25 .\nAuprès de Serge Keller : keller.serge68@orange.fr ou 06 31 76 22 96 \nSelon la météo le parcours peut varier.  \nCondition pour participer à cette sortie :\nêtre membre du CVSA et à jour de sa cotisation (possibilité d’adhérer sur place)
URL:https://club-vosgien-saint-amarin.fr/activite/randonnee-seniors/
CATEGORIES:Sorties seniors
ORGANIZER;CN="Serge%20KELLER":MAILTO:keller.serge68orange.fr
END:VEVENT
END:VCALENDAR