BEGIN:VCALENDAR
VERSION:2.0
PRODID:-//Club Vosgien Vallée de Saint-Amarin - ECPv6.1.3//NONSGML v1.0//EN
CALSCALE:GREGORIAN
METHOD:PUBLISH
X-ORIGINAL-URL:https://club-vosgien-saint-amarin.fr
X-WR-CALDESC:évènements pour Club Vosgien Vallée de Saint-Amarin
REFRESH-INTERVAL;VALUE=DURATION:PT1H
X-Robots-Tag:noindex
X-PUBLISHED-TTL:PT1H
BEGIN:VTIMEZONE
TZID:Europe/Paris
BEGIN:DAYLIGHT
TZOFFSETFROM:+0100
TZOFFSETTO:+0200
TZNAME:CEST
DTSTART:20240331T010000
END:DAYLIGHT
BEGIN:STANDARD
TZOFFSETFROM:+0200
TZOFFSETTO:+0100
TZNAME:CET
DTSTART:20241027T010000
END:STANDARD
END:VTIMEZONE
BEGIN:VEVENT
DTSTART;TZID=Europe/Paris:20241107T100000
DTEND;TZID=Europe/Paris:20241107T170000
DTSTAMP:20260422T034018
CREATED:20240102T215040Z
LAST-MODIFIED:20241022T213230Z
UID:17242-1730973600-1730998800@club-vosgien-saint-amarin.fr
SUMMARY:* RANDONNEE BOUDIN Ostein
DESCRIPTION:Le club Vosgien de Saint-amarin organise le jeudi 7 novembre 2024 \nsa traditionnelle sortie BOUDINS à la ferme-auberge du Ostein  \nLa Ferme-auberge du Ostein est une célébration de la vie rurale\, un tableau vivant de la culture alsacienne où chaque élément\, de la nourriture à l’atmosphère\, est infusé d’un amour profond pour la terre et ses traditions. Serge\, avec ses mains de fermier et son cœur de chef cuisinier\, transforme les ingrédients locaux en plats qui sont plus que de la nourriture : ce sont des histoires\, des héritages\, des promesses de saveurs qui parlent à l’âme autant qu’au palais. Les visiteurs\, qu’ils soient des randonneurs fatigués cherchant réconfort ou des locaux en quête de convivialité\, trouvent dans cette ferme-auberge un sanctuaire où le temps semble s’arrêter\, où chaque repas est une occasion de se reconnecter avec les racines de la région. \nParmi ses spécialités\, on trouve le repas marcaire\, un menu typique des fermes-auberges régionales\, comme le pot-au-feu\, le bœuf bourguignon\, la palette au four\, et bien sûr\, le munster\, ce fromage fort qui caractérise l’Alsace. Les desserts ne sont pas oubliés\, avec des tartes aux fruits de saison qui ravissent les papilles. Chaque plat est un hommage à la tradition culinaire locale\, servi dans un cadre rustique qui ajoute à l’expérience un charme authentique. \nDépart 10 h 00\, équipé  \nParking de l’église\, rue du vieil Armand vis à vis du WILLERHOF à Willer-sur- Thur\, \nmatin : Dist 4\,10 km D+328 m D- 68 m\, après-midi : Dist 3\,80 km D+ 21 m D- 281 m\,  \nKm-effort :  11\,4 ke – classée *\, \nTps de marche matin environ 2 h 00\, l’après-midi\, 1 h 15 (au pas de sénateur)\, \nGuides : Bernard Mauran – Raymond Trébutien\, \nDéjeuner : Ferme auberge du Ostein bien entendu … \nBoudin accompagné de compote + choucroute\, dessert\, café : 28\,50 €\, boissons en sus\,   \nInscription obligatoire au plus tard le samedi 2 novembre auprès de : \nB.Mauran 06 76 70 03 03 bernyrando@free.fr \nEn cas d’absence\, laisser vos coordonnées : nom \, prénom et numéro de téléphone. \nRandonnée classée *\, sentier bien tracé\, aucune difficulté particulière. \nConditions de participation : être membre du C.V.S.A à jour de sa cotisation\, possibilité d’adhérer sur place moyennant la somme de 2 €. \nLa participation à une randonnée est un acte volontaire qui engage votre responsabilité\, vous vous déclarez en bonne santé\, apte à effectuer la randonnée ci-dessus classée * et dégagez l’organisateur de toute responsabilité autre que celle inhérente à sa qualité de G.R.P.
URL:https://club-vosgien-saint-amarin.fr/activite/randonnee-boudin/
CATEGORIES:Sorties à thèmes,Sorties seniors
ORGANIZER;CN="Bernard%20MAURAN":MAILTO:bernyrando@free.fr
END:VEVENT
BEGIN:VEVENT
DTSTART;TZID=Europe/Paris:20241115T080000
DTEND;TZID=Europe/Paris:20241115T170000
DTSTAMP:20260422T034018
CREATED:20240102T215217Z
LAST-MODIFIED:20241105T171454Z
UID:17244-1731657600-1731690000@club-vosgien-saint-amarin.fr
SUMMARY:**/*** SORTIE SENIORS NOCTURNE BEAUJOLAIS NOUVEAU Déplacée au 22 novembre 2024
DESCRIPTION:Déplacée au 22 novembre 2024
URL:https://club-vosgien-saint-amarin.fr/activite/sortie-seniors-nocturne-beaujolais-nouveau/
CATEGORIES:Sorties seniors
ORGANIZER;CN="Serge%20KELLER":MAILTO:keller.serge68orange.fr
END:VEVENT
END:VCALENDAR