BEGIN:VCALENDAR
VERSION:2.0
PRODID:-//Club Vosgien Vallée de Saint-Amarin - ECPv6.1.3//NONSGML v1.0//EN
CALSCALE:GREGORIAN
METHOD:PUBLISH
X-WR-CALNAME:Club Vosgien Vallée de Saint-Amarin
X-ORIGINAL-URL:https://club-vosgien-saint-amarin.fr
X-WR-CALDESC:évènements pour Club Vosgien Vallée de Saint-Amarin
REFRESH-INTERVAL;VALUE=DURATION:PT1H
X-Robots-Tag:noindex
X-PUBLISHED-TTL:PT1H
BEGIN:VTIMEZONE
TZID:Europe/Paris
BEGIN:DAYLIGHT
TZOFFSETFROM:+0100
TZOFFSETTO:+0200
TZNAME:CEST
DTSTART:20240331T010000
END:DAYLIGHT
BEGIN:STANDARD
TZOFFSETFROM:+0200
TZOFFSETTO:+0100
TZNAME:CET
DTSTART:20241027T010000
END:STANDARD
END:VTIMEZONE
BEGIN:VEVENT
DTSTART;TZID=Europe/Paris:20241017T080000
DTEND;TZID=Europe/Paris:20241017T170000
DTSTAMP:20260422T035046
CREATED:20240102T214016Z
LAST-MODIFIED:20241002T150552Z
UID:17229-1729152000-1729184400@club-vosgien-saint-amarin.fr
SUMMARY:** SORTIE SENIORS Mille étangs
DESCRIPTION:Organise le jeudi 17 octobre une randonnée senior au mille étangs\,  \ndépart du parking du plateau des Grilloux. \nCe plateau\, qui s’étend sur environ 220 km²\, est une région fascinante surnommée la “Petite Finlande ”en raison de son paysage unique façonné par la fonte des glaciers il y a environ 12 000 ans.\nIl est composé de landes\, de prés\, de forêts\, de ruisseaux et de nombreux plans d’eau peu profonds\, alimentés principalement par les eaux de pluie et de ruissellement.\nBien que le paysage ait été façonné par des glaciers\, les étangs eux-mêmes ont été aménagés par l’homme pour l’élevage de poissons comme les carpes et les tanches.\nRiche en biodiversité\, la région offre un habitat à de nombreuses espèces végétales et animales. \nCovoiturage : 8 h 00 – THANN\, rue du Général de Gaulle \, parking du magasin Match situé à 50 m de la gare SNCF \nDépart de la randonnée : 9 h 15\,  \nParking du plateau des Grilloux\, Altitude 646 m\, N47.83825* E 6.66706 * \nMatin : Dist 8.4 km D+ 177 m D- 207 m\, temps de marche 2 h 30 environ\, \nAprès-midi : Dist 6\,1 km D+ 184 m D- 154 m\, temps de marche environ 2 h 00 \nRandonnée classée * *\, km effort : 17\,8 \nDifficulté T2 : randonnée facile\, sentier avec tracé ininterrompu\, terrain parfois raide sur de courtes distances\,  \nRecommandations : chaussures de marche et bâtons . \nDéjeuner : chez Gaby\,\, entré\, plat\, fromage et dessert 18\,00 €\, boissons non comprises. \nDate limite d’inscription : lundi 14 septembre\, \nInscription obligatoire auprès de Bernard Mauran\, bernyrando@free.fr ou 06 76 70 03 03. \n Si pas de réponse immédiate\, laissez vos coordonnées\, Nom\, prénom et numéro de téléphone. \nConditions de participation :\nÊtre membre du CVSA à jour de sa cotisation\, possibilité d’adhérer sur place ou avec une carte découverte valable uniquement pour cette randonnée\, coût 2 €\nLa participation à une randonnée est un acte volontaire qui engage votre responsabilité\, vous vous déclarez en bonne santé\, apte à effectuer la randonnée ci-dessus classée * * et dégagez l’organisateur de toute responsabilité autre que celle inhérente à sa qualité de GRP. \nVotre participation vaut acceptation des conditions de participation. \nLa randonnée\,\nIl n’est jamais trop tard pour s’y mettre.
URL:https://club-vosgien-saint-amarin.fr/activite/sortie-seniors-4/
LOCATION:Thann parking Match devant gare SNCF
CATEGORIES:Sorties seniors
ORGANIZER;CN="Bernard%20MAURAN":MAILTO:bernyrando@free.fr
END:VEVENT
BEGIN:VEVENT
DTSTART;TZID=Europe/Paris:20241031T080000
DTEND;TZID=Europe/Paris:20241031T170000
DTSTAMP:20260422T035046
CREATED:20240923T164439Z
LAST-MODIFIED:20241016T074933Z
UID:19880-1730361600-1730394000@club-vosgien-saint-amarin.fr
SUMMARY:** SORTIE AUTOMNALE RIQUEWIHR
DESCRIPTION:SORTIE DU 31/10/24 RIQUEWIHR \nLe club vosgien vous propose une sortie le 31/10/24 du coté de Riquewihr  \nRDV à 09h00 (en tenue ) au parking de l’étang de pêche le Sembach chemin de la forêt à la sortie de Riquewihr  \nDEPART : 09h15 pour une boucle de 13kms avec 450m de déniv + **/*** \nDéjeuner :  auberge de ST Alexis  \n2 menus : – potage\, omelette-crudités-jambons et pommes de terre frites\, dessert \nà 23€ – potage\, coq fermier sauce au vin\, dessert  \n( boissons non comprises )  \nGuides : Keller Serge et Bissler Raymond \nDélais d’inscription pour le 27/10/24 . N’oubliez pas de mentionner votre choix pour le menu.  \nkeller.serge68@orange.fr ou 06 31 76 22 96 \nCovoiturage Leclerc Librairie à 8h00 \nSelon météo le parcours peut varier.  \nCondition pour participer à cette sortie : être membre du CVSA et à jour de sa cotisation ( possibilité d’adhérer sur place )
URL:https://club-vosgien-saint-amarin.fr/activite/sortie-automnale-2/
CATEGORIES:Randonnées,Sorties seniors
ORGANIZER;CN="Serge%20KELLER":MAILTO:keller.serge68orange.fr
END:VEVENT
END:VCALENDAR