BEGIN:VCALENDAR
VERSION:2.0
PRODID:-//Club Vosgien Vallée de Saint-Amarin - ECPv6.1.3//NONSGML v1.0//EN
CALSCALE:GREGORIAN
METHOD:PUBLISH
X-WR-CALNAME:Club Vosgien Vallée de Saint-Amarin
X-ORIGINAL-URL:https://club-vosgien-saint-amarin.fr
X-WR-CALDESC:évènements pour Club Vosgien Vallée de Saint-Amarin
REFRESH-INTERVAL;VALUE=DURATION:PT1H
X-Robots-Tag:noindex
X-PUBLISHED-TTL:PT1H
BEGIN:VTIMEZONE
TZID:Europe/Paris
BEGIN:DAYLIGHT
TZOFFSETFROM:+0100
TZOFFSETTO:+0200
TZNAME:CEST
DTSTART:20240331T010000
END:DAYLIGHT
BEGIN:STANDARD
TZOFFSETFROM:+0200
TZOFFSETTO:+0100
TZNAME:CET
DTSTART:20241027T010000
END:STANDARD
END:VTIMEZONE
BEGIN:VEVENT
DTSTART;TZID=Europe/Paris:20240905T084500
DTEND;TZID=Europe/Paris:20240905T170000
DTSTAMP:20260422T065943
CREATED:20231018T201038Z
LAST-MODIFIED:20240825T163400Z
UID:16926-1725525900-1725555600@club-vosgien-saint-amarin.fr
SUMMARY:*** Sortie Séniors Marche Sapois (piquante Pierre Roches St Jacques Tourbière Champâtre)
DESCRIPTION:Le CVSA vous propose une sortie vosgienne le jeudi 5 septembre 2024 à PLANOIS.\nPlanois est un très joli petit village situé dans la vallée de Basse sur le Rupt à 642 m d’altitude à environ. \nParcours proposé :\nDépart en montée en sous-bois. Sur le trajet deux magnifique promontoire avec belle vue sur Planois.\n1er point culminant à 1008 m d’altitude au Mémorial Monolithe de la guerre de 1944 au lieudit Pierre Piquante avec vue de 360° sur les proches alentours. Puis descente vers Col de Menufosse à 966 m.\nPause repas et boissons tirés du sac sous abri randonneurs\nL’après-midi\, départ vers les Roches St Jacques à P-C 1026 m d’altitude et Tourbière du Champâtre à 1000 m d’altitude. Deux sites de curiosités naturelles et sauvages d’intérêt. Puis passage à côté de la tourbière car zone protégée et de tranquillité sur un joli sentier circulaire en forêt. Le retour se fera par les Plateaux\, lieu-dit à 900 m et col de Fouchure à 844 m avant le retour sur Planois par Les Roches Plates\, belle curiosité impressionnante. \nDistance : env. 12\,3 km (matin : 5\,6 km\, après-midi : 6\,7 km) \nDurée de la randonnée : environ 6 h 15 \nGuides : Bernard THEILER  \nRDV sur place à 8 h 45 (deux parkings\, un à côté de l’église et l’autre à la mairie à gauche après église sur D 34). Distance jusqu’à Planois : 40 km \nPossibilité de co-voiturage : RDV sur le parking après la gare de Wesserling à 7 h 50 pour départ à 8 h 00 \nRenseignements et inscription obligatoire auprès de Bernard THEILLER : Tél : 06.11.79.43.84 ou mail bernard.theiller@orange.fr \nDate d’inscription : au plus tard mardi 3 septembre 2024 à 19 h \nConditions pour participer à cette sortie :\n– Être membre du Club Vosgien de Saint Amarin et à jour de cotisation (possibilité d’adhérer sur place)\n– Non-membre accepté moyennant l’achat d’une carte de membre temporaire valable uniquement pour la randonnée concernée (incluant une assurance\, coût 2 €).
URL:https://club-vosgien-saint-amarin.fr/activite/sortie-seniors-marche-sapois-piquante-pierre-roches-st-jacques-tourbiere-champatre/
CATEGORIES:Sorties seniors
ORGANIZER;CN="Bernard%20THEILLER":MAILTO:bernard.theiller@orange.fr
END:VEVENT
BEGIN:VEVENT
DTSTART;TZID=Europe/Paris:20240919T080000
DTEND;TZID=Europe/Paris:20240919T170000
DTSTAMP:20260422T065943
CREATED:20240102T212858Z
LAST-MODIFIED:20240102T212858Z
UID:17215-1726732800-1726765200@club-vosgien-saint-amarin.fr
SUMMARY:*** SORTIE SENIORS: BALLON D'ALSACE
DESCRIPTION:
URL:https://club-vosgien-saint-amarin.fr/activite/sortie-seniors-ballon-dalsace-2/
CATEGORIES:Sorties seniors
ORGANIZER;CN="Bernard%20MAURAN":MAILTO:bernyrando@free.fr
END:VEVENT
BEGIN:VEVENT
DTSTART;TZID=Europe/Paris:20240926T093000
DTEND;TZID=Europe/Paris:20240926T170000
DTSTAMP:20260422T065943
CREATED:20240102T213237Z
LAST-MODIFIED:20240922T191104Z
UID:17220-1727343000-1727370000@club-vosgien-saint-amarin.fr
SUMMARY:** SORTIE SENIORS: Col Amic Molkenrain Annulée
DESCRIPTION:Sortie Annulée par manque de participants \nLe CVSA vous propose une sortie le jeudi 26 Septembre 2024 \n Départ du Col Amic à 9h30. \nParcours proposé : \nMatin : Distance 6\,6 km – Dénivelé + 311 m – Temps de marche 2h40\nDépart à 9h30 du Parking Col Amic D13B6 croisement D431G\, Col du Silberloch\, Molkenrain. \nRepas : Chez les Amis de la Nature de Uffholtz au Molkenrain.\nTarte flambée au prix de 7€\, dessert\, tarte aux fruits à 2€50. L’établissement ne prend pas la carte bancaire ! \nAprès-midi : Distance 5\,1km – Dénivelé + 43m – Temps de marche 1h45\nGr5 Le Camp Turenne\, Fa Freundstein\, Col Amic. \nGuides : Yves Ziegler 06 17 67 74 91 Bernard Mauran 06 76 70 03 03 \nINSCRIPTION OBLIGATOIRE AVANT LE 22 09 2024 ; \nAuprès de : François DESAGA au 06 08 93 91 76 après 18h00 ou de préférence par Mail : defranzi@gmail.com \nEn cas d’absence\, ne pas oublier de laisser votre numéro de téléphone et le lieu de RDV. \nDistance totale : env. 11\,7 km avec un dénivelé positif de 354 m \nDépart de la randonnée : Parking du Col Amic D13B6 croisement D431G  \nPossibilité de co-voiturage : RDV 8h45 parking en face du restaurant Willerhof D13B6 Willer- sur- Thur. \nPlan de la sortie \nConditions pour participer à cette sortie :\n– Être membre du Club Vosgien de Saint-Amarin et à jour de cotisation (possibilité d’adhérer sur place)\n– Non-membre accepté moyennant l’achat d’une carte de membre temporaire valable uniquement pour la randonnée concernée (incluant une assurance\, coût 2 €).
URL:https://club-vosgien-saint-amarin.fr/activite/sortie-seniors-orschwihr-gauchmatt/
LOCATION:Col Amic
CATEGORIES:Sorties seniors
ATTACH;FMTTYPE=image/jpeg:https://club-vosgien-saint-amarin.fr/wp-content/uploads/2024/01/plan-20240926.jpg
ORGANIZER;CN="Yves%20ZIEGLER":MAILTO:yves5758@gmail.com
END:VEVENT
END:VCALENDAR