BEGIN:VCALENDAR
VERSION:2.0
PRODID:-//Club Vosgien Vallée de Saint-Amarin - ECPv6.1.3//NONSGML v1.0//EN
CALSCALE:GREGORIAN
METHOD:PUBLISH
X-ORIGINAL-URL:https://club-vosgien-saint-amarin.fr
X-WR-CALDESC:évènements pour Club Vosgien Vallée de Saint-Amarin
REFRESH-INTERVAL;VALUE=DURATION:PT1H
X-Robots-Tag:noindex
X-PUBLISHED-TTL:PT1H
BEGIN:VTIMEZONE
TZID:Europe/Paris
BEGIN:DAYLIGHT
TZOFFSETFROM:+0100
TZOFFSETTO:+0200
TZNAME:CEST
DTSTART:20240331T010000
END:DAYLIGHT
BEGIN:STANDARD
TZOFFSETFROM:+0200
TZOFFSETTO:+0100
TZNAME:CET
DTSTART:20241027T010000
END:STANDARD
END:VTIMEZONE
BEGIN:VEVENT
DTSTART;TZID=Europe/Paris:20240725T093000
DTEND;TZID=Europe/Paris:20240725T170000
DTSTAMP:20260425T035439
CREATED:20240102T210134Z
LAST-MODIFIED:20240715T192801Z
UID:17193-1721899800-1721926800@club-vosgien-saint-amarin.fr
SUMMARY:** SORTIE SENIORS: RIMBACH ZELL/ JUDENHUT
DESCRIPTION:Le CVSA vous propose une sortie le jeudi 25 Juillet 2024 à Rimbach-près-Guebwiller.  \nParcours proposé : \nMatin : Distance 7\,2 km – Dénivelé + 488 m – Temps de marche 2h40  \nParking avant Rimbach\, Diefenbach\, Wustengraben\, Col de Judenhut. \nRepas : Abri du col du Judenhut : casse-croûte et boissons tirés du sac \nAprès-midi : Distance 6\,1 km – Dénivelé + 8 m – Temps de marche 2h20  \nCol de Judenhut\, Rocher St Pirmin\, Munsteraeckle\, Col de Perternit\, retour parking. \nGuides : DESAGA François 06 08 93 91 76 et ZIEGLER Yves 06 17 67 74 91 \nDistance : env. 13.3 km avec un dénivelé positif de 496 m \nDépart de la randonnée : Parking avant Rimbach-près-Guebwiller à 9h30\, \nGPS 47.905812 7.161455 \nPossibilité de co-voiturage : RDV sur le parking Espace culturel Leclerc Cernay à 8h45 \nConditions pour participer à cette sortie :\n– Être membre du Club Vosgien de Saint-Amarin et à jour de cotisation (possibilité d’adhérer sur place)\n– Non-membre accepté moyennant l’achat d’une carte de membre temporaire valable uniquement pour la randonnée concernée (incluant une assurance\, coût 2 €).
URL:https://club-vosgien-saint-amarin.fr/activite/sortie-seniors-rimbach-zell-judenhut/
CATEGORIES:Sorties seniors
ORGANIZER;CN="Fran%C3%A7ois%20DESAGA":MAILTO:defranzi@gmail.com
END:VEVENT
END:VCALENDAR