BEGIN:VCALENDAR
VERSION:2.0
PRODID:-//Club Vosgien Vallée de Saint-Amarin - ECPv6.1.3//NONSGML v1.0//EN
CALSCALE:GREGORIAN
METHOD:PUBLISH
X-ORIGINAL-URL:https://club-vosgien-saint-amarin.fr
X-WR-CALDESC:évènements pour Club Vosgien Vallée de Saint-Amarin
REFRESH-INTERVAL;VALUE=DURATION:PT1H
X-Robots-Tag:noindex
X-PUBLISHED-TTL:PT1H
BEGIN:VTIMEZONE
TZID:Europe/Paris
BEGIN:DAYLIGHT
TZOFFSETFROM:+0100
TZOFFSETTO:+0200
TZNAME:CEST
DTSTART:20230326T010000
END:DAYLIGHT
BEGIN:STANDARD
TZOFFSETFROM:+0200
TZOFFSETTO:+0100
TZNAME:CET
DTSTART:20231029T010000
END:STANDARD
END:VTIMEZONE
BEGIN:VEVENT
DTSTART;TZID=Europe/Paris:20231005T090000
DTEND;TZID=Europe/Paris:20231005T170000
DTSTAMP:20260425T201304
CREATED:20221105T173832Z
LAST-MODIFIED:20230915T200534Z
UID:14228-1696496400-1696525200@club-vosgien-saint-amarin.fr
SUMMARY:** Sortie Séniors BALLON D'ALSACE
DESCRIPTION:Organise le jeudi 5 octobre prochain une randonnée Seniors sur le massif du Ballon d’Alsace. \nLe Ballon offre un panorama très dégagé à 360° sur la chaîne du Jura\, la forêt Noire\, la Trouée de Belfort\, les crêtes des Vosges du nord ou encore le Mt-Blanc par temps clair. \nDépart :  D.465 sur la droite de la chaussée (lieu-dit la Bérézina) \, environ 5oo m avant l’auberge du ballon d’Alsace. \nCovoiturage : 7 h 45\, parking Leclerc Multimédia – Cernay\, \nDépart de la randonnée : 9 h 00 équipé .\nMatin          : distance 8\,0 km D+ 460 m D- 420 m\nAprès-midi : distance 2\,8 km D+ 120 m D- 159 m\nKm effort 16\,6. \nGuides : B.MAURAN & R.TREBUTIEN \nDéjeuner Hôtel Restaurant du Sommet\, coût : 20\,00 €\,\nentré\, plat\, dessert\, boissons non comprises. \nB.MAURAN\, bernyrando@free.fr  06 76 70 03 03.\nEn cas de non-réponse\, laissez vos coordonnées\nnom\, prénom\, mail ou numéro de téléphone.  \nRandonnée classée * *\, sentier bien tracé\, aucune difficulté particulière\, mais bâtons recommandés\, avoir un minimum d’entraînement et de bonnes chaussures. \nConditions de participation : être membre du CVSA à jour de sa cotisation\, possibilité d’adhérer sur place\, coût 2 €. \nLa participation à une randonnée est un acte volontaire qui engage votre responsabilité\, vous vous déclarez en bonne santé\, apte à effectuer la randonnée ci-dessus classée * * * et dégagez l’organisateur de toute responsabilité autre que celle inhérente à sa qualité de GRP. Votre participation vaut acceptation des conditions de participation.
URL:https://club-vosgien-saint-amarin.fr/activite/sortie-seniors-ballon-dalsace/
LOCATION:Cernay Parking Leclerc
CATEGORIES:Sorties seniors
ORGANIZER;CN="Bernard%20MAURAN":MAILTO:bernyrando@free.fr
END:VEVENT
END:VCALENDAR