BEGIN:VCALENDAR
VERSION:2.0
PRODID:-//Club Vosgien Vallée de Saint-Amarin - ECPv6.1.3//NONSGML v1.0//EN
CALSCALE:GREGORIAN
METHOD:PUBLISH
X-ORIGINAL-URL:https://club-vosgien-saint-amarin.fr
X-WR-CALDESC:évènements pour Club Vosgien Vallée de Saint-Amarin
REFRESH-INTERVAL;VALUE=DURATION:PT1H
X-Robots-Tag:noindex
X-PUBLISHED-TTL:PT1H
BEGIN:VTIMEZONE
TZID:Europe/Paris
BEGIN:DAYLIGHT
TZOFFSETFROM:+0100
TZOFFSETTO:+0200
TZNAME:CEST
DTSTART:20230326T010000
END:DAYLIGHT
BEGIN:STANDARD
TZOFFSETFROM:+0200
TZOFFSETTO:+0100
TZNAME:CET
DTSTART:20231029T010000
END:STANDARD
END:VTIMEZONE
BEGIN:VEVENT
DTSTART;TZID=Europe/Paris:20230803T080000
DTEND;TZID=Europe/Paris:20230803T170000
DTSTAMP:20260425T233458
CREATED:20221105T171737Z
LAST-MODIFIED:20230724T075000Z
UID:14199-1691049600-1691082000@club-vosgien-saint-amarin.fr
SUMMARY:*** Sortie Séniors:   LAC BLANC/ TANET Annulée
DESCRIPTION:
URL:https://club-vosgien-saint-amarin.fr/activite/sortie-seniors-lac-blanc-tanet/
CATEGORIES:Sorties seniors
ORGANIZER;CN="Bernard%20MAURAN":MAILTO:bernyrando@free.fr
END:VEVENT
BEGIN:VEVENT
DTSTART;TZID=Europe/Paris:20230810T093000
DTEND;TZID=Europe/Paris:20230810T170000
DTSTAMP:20260425T233458
CREATED:20221105T171846Z
LAST-MODIFIED:20230727T195851Z
UID:14201-1691659800-1691686800@club-vosgien-saint-amarin.fr
SUMMARY:** Sortie Séniors:   Sur les sentiers de TAGSDORF - Voie Romaine
DESCRIPTION:Le club vosgien de Saint-Amarin vous propose le jeudi 10 Août\, une randonnée Séniors à la découverte des sentiers du Sundgau : La Voie Romaine.\nCircuit sur les hauteurs de la vallée de l’Ill et de Hundsbach à dominance forestière. \nGuides : Fabrice BIRINGER & François DESAGA \nDifficulté : ** \nDistance : 17km ; Dénivelé + 230m \nDépart de la rando : 9h30\, Parking du COSEC (Complexe Sportif HIRSINGUE)\,\nrue du Stade 68560 HIRSINGUE \nRepas et boissons tirés du sac aux abords arborés de la chapelle St Brice. \nItinéraire :\nParking Cosec de Hirsingue\, Hauteurs d’Hirsingue\, Forêt de Breithholz\, Chapelle St Brice près de Tagsdorg\, Forêt de Hausgauen\, ancienne voie Romaine\, Bettendorf\,  retour Parking du Cosec. \nConditions de participation :\nEtre membre du CVSA et à jour de sa cotisation\nPour s’inscrire :  Fabrice BIRINGER  mail : fbir14@gmail.com\nTél : 06 30 33 05 06 entre 19 et 20h30\nFrançois DESAGA  mail. :francois.desaga@wanadoo.fr\nTél. : 06 08 93 91 76 entre 19h et 20h30
URL:https://club-vosgien-saint-amarin.fr/activite/sortie-seniors-sur-les-sentiers-de-tagsdorf/
CATEGORIES:Sorties seniors
ORGANIZER;CN="Fabrice.%20BIRINGER":MAILTO:fabrice.biringer@libertysurf.fr
END:VEVENT
END:VCALENDAR