BEGIN:VCALENDAR
VERSION:2.0
PRODID:-//Club Vosgien Vallée de Saint-Amarin - ECPv6.1.3//NONSGML v1.0//EN
CALSCALE:GREGORIAN
METHOD:PUBLISH
X-WR-CALNAME:Club Vosgien Vallée de Saint-Amarin
X-ORIGINAL-URL:https://club-vosgien-saint-amarin.fr
X-WR-CALDESC:évènements pour Club Vosgien Vallée de Saint-Amarin
REFRESH-INTERVAL;VALUE=DURATION:PT1H
X-Robots-Tag:noindex
X-PUBLISHED-TTL:PT1H
BEGIN:VTIMEZONE
TZID:Europe/Paris
BEGIN:DAYLIGHT
TZOFFSETFROM:+0100
TZOFFSETTO:+0200
TZNAME:CEST
DTSTART:20230326T010000
END:DAYLIGHT
BEGIN:STANDARD
TZOFFSETFROM:+0200
TZOFFSETTO:+0100
TZNAME:CET
DTSTART:20231029T010000
END:STANDARD
END:VTIMEZONE
BEGIN:VEVENT
DTSTART;TZID=Europe/Paris:20230406T090000
DTEND;TZID=Europe/Paris:20230406T170000
DTSTAMP:20260426T063635
CREATED:20221026T204647Z
LAST-MODIFIED:20230322T171043Z
UID:14060-1680771600-1680800400@club-vosgien-saint-amarin.fr
SUMMARY:** Sortie Sénors Le OSTEIN
DESCRIPTION:Le Club Vosgien organise le jeudi 6 avril une randonnée Senior au départ de Silberthal à destination de la ferme auberge du Ostein. \nRendez-vous et départ :\nSTEINBACH \, rue de Silberthal\, suivre jusqu’au parking place du Silberthal \nRendez-vous 8 h 45. \nDépart : 9 h 00 équipé. \nMatin            : distance 7\,6 km\, D+ 610 m\, D- 400 m\, \nAprès-midi   : distance 6\,6 km\, D+ 363 m\, D- 575 m \nKm effort : 24 \nGuides : Bernard MAURAN & Raymond TREBUTIEN \nDéjeuner : ferme-auberge du Ostein\,\nEntré\, plat\, dessert\, hors boisson 18\,00 €. \nInscription obligatoire au plus tard le samedi 1er avril 2023 auprès de :\nB.MAURAN\, bernyrando@free.fr    06 76 70 03 03.\nEn cas d’absence\, laisser vos coordonnées\, nom \, prénom et numéro de téléphone. \nRandonnée classée * * \, sentier bien tracé \, mais dénivelés parfois assez raides. \nConditions de participation : être membre du C.V.S.A à jour de sa cotisation\, possibilité d’adhérer sur place . \nLa participation à une randonnée est un acte volontaire qui engage votre responsabilité\, vous vous déclarez en bonne santé\, apte à effectuer la randonnée ci-dessus classée * * et dégagez l’organisateur de toute responsabilité autre que celle inhérente à sa qualité de G.R.P. \nVotre participation vaut acceptation des conditions de participation.
URL:https://club-vosgien-saint-amarin.fr/activite/sortie-senors-le-ostein/
LOCATION:STEINBACH rue de Silberthal\, parking place du Silberthal
CATEGORIES:Sorties seniors
ORGANIZER;CN="Bernard%20MAURAN":MAILTO:bernyrando@free.fr
END:VEVENT
BEGIN:VEVENT
DTSTART;TZID=Europe/Paris:20230413T080000
DTEND;TZID=Europe/Paris:20230413T170000
DTSTAMP:20260426T063635
CREATED:20221007T181400Z
LAST-MODIFIED:20230403T072059Z
UID:13939-1681372800-1681405200@club-vosgien-saint-amarin.fr
SUMMARY:** SORTIE DU 13/04/23 A LINTHAL
DESCRIPTION: Le club vosgien vous propose une sortie le 13/03/23 du coté de Linthal  \n RDV à 09h00 au parking de l’église de Linthal \nDEPART :  du parking vers sentier triangle rouge\, Kleinbelchen\, Mullermatt\, triangle bleu vers le Hilsen puis rouge blanc rouge qui nous mène au refuge amis des Vosges de Wittenheim pour le déjeuner. \nRETOUR :  sentier triangle jaune Obersengern jusqu’au parking de l’église à Linthal \nDéjeuner :   tiré du sac selon météo possibilité de faire des grillades.\nBoissons à prendre au refuge.    \nGuides : Keller Serge et Bissler Raymond \nDélais d’inscription pour le 10/04/23 \n keller.serge68@orange.fr ou 06 31 76 22 96 \nMarche  de 15 kms avec 620 dénivelé +  * * \nSelon météo le parcours peut varier. \nCondition pour participer  à cette sortie : être membre du CVSA et  à jour de sa cotisation  ( possibilité d’adhérer sur place )
URL:https://club-vosgien-saint-amarin.fr/activite/sortie-seniors-17/
LOCATION:LINTHAL (vallée de Guebwiller) Parking de l’église
CATEGORIES:Sorties seniors
ORGANIZER;CN="Serge%20KELLER":MAILTO:keller.serge68orange.fr
END:VEVENT
END:VCALENDAR