BEGIN:VCALENDAR
VERSION:2.0
PRODID:-//Club Vosgien Vallée de Saint-Amarin - ECPv6.1.3//NONSGML v1.0//EN
CALSCALE:GREGORIAN
METHOD:PUBLISH
X-WR-CALNAME:Club Vosgien Vallée de Saint-Amarin
X-ORIGINAL-URL:https://club-vosgien-saint-amarin.fr
X-WR-CALDESC:évènements pour Club Vosgien Vallée de Saint-Amarin
REFRESH-INTERVAL;VALUE=DURATION:PT1H
X-Robots-Tag:noindex
X-PUBLISHED-TTL:PT1H
BEGIN:VTIMEZONE
TZID:Europe/Paris
BEGIN:DAYLIGHT
TZOFFSETFROM:+0100
TZOFFSETTO:+0200
TZNAME:CEST
DTSTART:20260329T010000
END:DAYLIGHT
BEGIN:STANDARD
TZOFFSETFROM:+0200
TZOFFSETTO:+0100
TZNAME:CET
DTSTART:20261025T010000
END:STANDARD
END:VTIMEZONE
BEGIN:VEVENT
DTSTART;TZID=Europe/Paris:20260305T090000
DTEND;TZID=Europe/Paris:20260305T170000
DTSTAMP:20260421T173012
CREATED:20251114T172819Z
LAST-MODIFIED:20260204T210139Z
UID:22940-1772701200-1772730000@club-vosgien-saint-amarin.fr
SUMMARY:** Sortie hivernale – Jeudi 5 mars 2026
DESCRIPTION:Le Club Vosgien de Saint‑Amarin vous invite à une randonnée hivernale au départ de Geishouse en direction de la ferme‑auberge du Haag. Parcours modulé selon la météo\, retour probable par le GR 532. \nDépart \n\n9 h 00 – Parking des randonneurs à Geishouse\nCo-voiturage 8 h 30 \, parking église de Moosch devant le restaurant les 3 Rois.\n♂️ Randonnée\n\n\nDistance : 10 km\nDénivelé : +545 m\nDurée : environ 2 h 30 le matin et 1 h 30 l’après‑midi\nClassement : ★★ – 15\,4 Ke\nDifficulté : aucune difficulté technique\nÉquipement conseillé : bâtons indispensables\, crampons recommandés\, raquettes selon l’enneigement (le GR 532 peut être glissant).\n\nGuide : Bernard MAURAN\nDéjeuner : Ferme‑auberge du Haag\, menu et tarif : potage\, plat\, dessert\, 28 € (boissons non comprises)\nAccès : depuis la D13b8\, traverser le centre du village puis tourner à droite pour rejoindre le parking des randonneurs. \nInscription : obligatoire auprès de Bernard MAURAN 06 76 70 03 03 (de 18 h à 21 h) Si pas de réponse\, laissez vos coordonnées précises\, je vous rappelle ou par mail bernyrando@free.fr  \nClôture des inscriptions : Lundi 2 Mars \nConditions de participation \nÊtre membre du CVSA à jour de cotisation (adhésion possible sur place ou carte découverte à 3 € valable uniquement pour cette sortie) \nLa participation à une randonnée est un acte volontaire qui engage votre responsabilité\, vous vous déclarez en bonne santé\, apte à effectuer la randonnée ci-dessus classée ** et dégagez l’organisateur de toute responsabilité autre que celle inhérente à sa qualité de GRP. \nVotre participation vaut acceptation des conditions ci-dessus.
URL:https://club-vosgien-saint-amarin.fr/activite/randonnee-5/
CATEGORIES:Randonnées,Sorties hivernales
ORGANIZER;CN="Bernard%20MAURAN":MAILTO:bernyrando@free.fr
END:VEVENT
END:VCALENDAR