BEGIN:VCALENDAR
VERSION:2.0
PRODID:-//Club Vosgien Vallée de Saint-Amarin - ECPv6.1.3//NONSGML v1.0//EN
CALSCALE:GREGORIAN
METHOD:PUBLISH
X-WR-CALNAME:Club Vosgien Vallée de Saint-Amarin
X-ORIGINAL-URL:https://club-vosgien-saint-amarin.fr
X-WR-CALDESC:évènements pour Club Vosgien Vallée de Saint-Amarin
REFRESH-INTERVAL;VALUE=DURATION:PT1H
X-Robots-Tag:noindex
X-PUBLISHED-TTL:PT1H
BEGIN:VTIMEZONE
TZID:Europe/Paris
BEGIN:DAYLIGHT
TZOFFSETFROM:+0100
TZOFFSETTO:+0200
TZNAME:CEST
DTSTART:20250330T010000
END:DAYLIGHT
BEGIN:STANDARD
TZOFFSETFROM:+0200
TZOFFSETTO:+0100
TZNAME:CET
DTSTART:20251026T010000
END:STANDARD
END:VTIMEZONE
BEGIN:VEVENT
DTSTART;TZID=Europe/Paris:20250223T083000
DTEND;TZID=Europe/Paris:20250223T170000
DTSTAMP:20260421T231050
CREATED:20241228T170130Z
LAST-MODIFIED:20250129T202938Z
UID:20245-1740299400-1740330000@club-vosgien-saint-amarin.fr
SUMMARY:*** Randonnée hivernale Frenz
DESCRIPTION:Le CVSA vous invite à une sortie le 23 février 2025 \n(randonnée à la journée) \nDescriptif du parcours : Oderen\, Raingott\, Bergenbach\, Langenbach\, Col d’Oderen\, les Wintergès\, Le Frenz\, Cascade St Nicolas\, Raingott\, Oderen. \nDistance : 18 km \nDénivelé positif : 926 mètres \nDifficulté : coté 4. Ke : ***. T2. Randonnée de difficulté moyenne – Bonnes chaussures obligatoires. \nRepas et boissons : tiré du sac chalet des Hauts du Frenz chez Thibaut Vuillard. \nHoraire et lieu de départ  : 8h30 au parking de la piscine de Wesserling pour regroupement puis déplacement jusqu’au Raingott . \nGuides :  Thibaut Vuillard 06 74 43 95 24 et Claude Feder 06 751 51 12 88 \nInscription obligatoire : Auprès de …Thibaut… Téléphone : 06 74 43 95 24 ou par mail : thibautvuillard@gmail.com \nConditions pour participer à cette sortie : \n\nÊtre membre du Club Vosgien de Saint-Amarin et à jour de cotisation (possibilité d’adhérer sur place)\nNon-membre accepté moyennant la signature d’une “fiche de participation à une activité CVSA” justifiant de la non contre-indication à la pratique d’une activité sportive et valable uniquement pour la sortie concernée (incluant une assurance\, coût 2 €).
URL:https://club-vosgien-saint-amarin.fr/activite/randonnee-hivernale-frenz/
LOCATION:Wesserling parking de la piscine
CATEGORIES:Sorties hivernales
ORGANIZER;CN="Thibaut%20VUILLARD":MAILTO:thibautvuillard@gmail.com
END:VEVENT
END:VCALENDAR