BEGIN:VCALENDAR
VERSION:2.0
PRODID:-//Club Vosgien Vallée de Saint-Amarin - ECPv6.1.3//NONSGML v1.0//EN
CALSCALE:GREGORIAN
METHOD:PUBLISH
X-ORIGINAL-URL:https://club-vosgien-saint-amarin.fr
X-WR-CALDESC:évènements pour Club Vosgien Vallée de Saint-Amarin
REFRESH-INTERVAL;VALUE=DURATION:PT1H
X-Robots-Tag:noindex
X-PUBLISHED-TTL:PT1H
BEGIN:VTIMEZONE
TZID:Europe/Paris
BEGIN:DAYLIGHT
TZOFFSETFROM:+0100
TZOFFSETTO:+0200
TZNAME:CEST
DTSTART:20250330T010000
END:DAYLIGHT
BEGIN:STANDARD
TZOFFSETFROM:+0200
TZOFFSETTO:+0100
TZNAME:CET
DTSTART:20251026T010000
END:STANDARD
END:VTIMEZONE
BEGIN:VEVENT
DTSTART;TZID=Europe/Paris:20250126T084500
DTEND;TZID=Europe/Paris:20250126T170000
DTSTAMP:20260422T010217
CREATED:20241219T214438Z
LAST-MODIFIED:20250117T211056Z
UID:20214-1737881100-1737910800@club-vosgien-saint-amarin.fr
SUMMARY:***/**** Randonnée hivernale	Schnepfenried
DESCRIPTION:SORTIE HIVERNALE \nDimanche 26 janvier 2025 \nLe Schnepfenried \nLe CVSA vous propose une sortie hivernale au départ du Treh \nRdv 8h45 sur le parking de la maison d’accueil (Accro-Branches) du Lac de Kruth pour covoiturage. \nLa boucle (entre 20 et 22 kms) présente environ 700m de dénivelé.\nLe Treh – Steinlebach – Col d’Oberlauchen – Lauchenkopf (1.314 m) – Nonselkopf – Schnepfenried – Refuge du Widenbach – Uff Rain – Col du Hahnenbrunnen – le Treh\nCe parcours pourra être adapté en fonction de la météo. \nLe repas sera tiré du sac au refuge des amis de la nature du Schnepfenried\nBoissons à prendre sur place (prévoir de la monnaie) \nSuivant la météo\, se munir de raquettes ou de crampons. \nLe matériel sera précisé par sms quelques jours avant la sortie. \nInscription obligatoire auprès de :\nVirginie LAMBERT au 06 01 15 49 98 ou par mail virginie.lambert.2009@gmail.com\nVeuillez indiquer votre numéro de portable\, si inscription par mail. \nDernier délai d’inscription : samedi 25 janvier. \nGuide : Virginie LAMBERT \nConditions pour participer à cette sortie:\n– Être membre du Club Vosgien Saint Amarin et à jour de sa cotisation (possibilité d’adhérer sur place) ;\n– Dans le cas contraire\, il est possible de souscrire une assurance sur place pour 2€.
URL:https://club-vosgien-saint-amarin.fr/activite/randonnee-hivernaleschnepfenried/
CATEGORIES:Randonnées,Sorties hivernales
END:VEVENT
END:VCALENDAR