BEGIN:VCALENDAR
VERSION:2.0
PRODID:-//Club Vosgien Vallée de Saint-Amarin - ECPv6.1.3//NONSGML v1.0//EN
CALSCALE:GREGORIAN
METHOD:PUBLISH
X-WR-CALNAME:Club Vosgien Vallée de Saint-Amarin
X-ORIGINAL-URL:https://club-vosgien-saint-amarin.fr
X-WR-CALDESC:évènements pour Club Vosgien Vallée de Saint-Amarin
REFRESH-INTERVAL;VALUE=DURATION:PT1H
X-Robots-Tag:noindex
X-PUBLISHED-TTL:PT1H
BEGIN:VTIMEZONE
TZID:Europe/Paris
BEGIN:DAYLIGHT
TZOFFSETFROM:+0100
TZOFFSETTO:+0200
TZNAME:CEST
DTSTART:20250330T010000
END:DAYLIGHT
BEGIN:STANDARD
TZOFFSETFROM:+0200
TZOFFSETTO:+0100
TZNAME:CET
DTSTART:20251026T010000
END:STANDARD
END:VTIMEZONE
BEGIN:VEVENT
DTSTART;TZID=Europe/Paris:20250302T080000
DTEND;TZID=Europe/Paris:20250302T170000
DTSTAMP:20260421T193156
CREATED:20241228T170530Z
LAST-MODIFIED:20241228T173822Z
UID:20251-1740902400-1740934800@club-vosgien-saint-amarin.fr
SUMMARY:***/**** Randonnée hivernale	Le Grieb
DESCRIPTION:
URL:https://club-vosgien-saint-amarin.fr/activite/randonnee-hivernalele-grieb/
CATEGORIES:Sorties hivernales
END:VEVENT
END:VCALENDAR