BEGIN:VCALENDAR
VERSION:2.0
PRODID:-//Club Vosgien Vallée de Saint-Amarin - ECPv6.1.3//NONSGML v1.0//EN
CALSCALE:GREGORIAN
METHOD:PUBLISH
X-ORIGINAL-URL:https://club-vosgien-saint-amarin.fr
X-WR-CALDESC:évènements pour Club Vosgien Vallée de Saint-Amarin
REFRESH-INTERVAL;VALUE=DURATION:PT1H
X-Robots-Tag:noindex
X-PUBLISHED-TTL:PT1H
BEGIN:VTIMEZONE
TZID:Europe/Paris
BEGIN:DAYLIGHT
TZOFFSETFROM:+0100
TZOFFSETTO:+0200
TZNAME:CEST
DTSTART:20230326T010000
END:DAYLIGHT
BEGIN:STANDARD
TZOFFSETFROM:+0200
TZOFFSETTO:+0100
TZNAME:CET
DTSTART:20231029T010000
END:STANDARD
END:VTIMEZONE
BEGIN:VEVENT
DTSTART;TZID=Europe/Paris:20230304T130000
DTEND;TZID=Europe/Paris:20230305T170000
DTSTAMP:20260423T132351
CREATED:20221007T180444Z
LAST-MODIFIED:20230301T153854Z
UID:13932-1677934800-1678035600@club-vosgien-saint-amarin.fr
SUMMARY:**/*** SORTIE W.E FRENZ RAQUETTES 4 au 5 mars 2023 REPORTEE
DESCRIPTION:REPORTEE A UNE DATE ULTERIEURE \n  \nAprès 2 années de disette\, le CVSA vous propose un week end​ randonnée (sans doute Raquettes !)  du 4 au 5 mars 2023 autour du FRENZ (Kruth) : \n 10 places MAXIMUM​ \nRdv samedi 4 vers 13h00 : Chalet Vuillard au Frenz  (27 rue du Frenz ​68820 Kruth sur google Maps). juste en dessous du Ski Club Kruth. \nAprès midi :​ ​​niveau 1* Promenade Raquettes. Boucle autour du Frenz. Distance ​6​ km ​​D+ 400​ m D- ​400​ m Tps de marche 3h​ env.​ \n​​Parcours susceptible d’être modifié en fonction des conditions météo. \n​Installation au chalet : Préparation soirée et nuitée. Prévoir sacs de couchage\, chaussons\, affaires toilette\, serviette ! Soirée près du feu\, dîner\, jeux… \nMenu du soir :   ​Raclette avec charcuteries\, champignons\, lardons oignons… !\nBoissons et desserts : à apporter​. À définir ensemble ! \n Petit déjeuner dimanche : tiré du sac. \n Dimanche 5 : niveau 2* Randonneur. boucle destination la Ferme Auberge du Bergenbach : 12 kms environ. ​​D+ 621​ m D- ​687​ m Tps de marche 6h​ env. (si raquettes) \nRepas du midi : tiré du sac. \n​Parcours susceptible d’être modifié en fonction des conditions météo. \n Inscription obligatoire auprès de :\nThibaut Vuillard​ ​06 ​​74 43 95 24\nou par mail ​thibautvuillard@gmail.com \nDernier délai d’inscription : ​mercredi 1er mars 2023​ \n​C​out pour le week end : prévoir 25 € \n​Guides : ​T. VUILLARD​ \nBâtons fortement recommandés\, \nTélécharger la version imprimable
URL:https://club-vosgien-saint-amarin.fr/activite/w-e-frentz-raquettes/
CATEGORIES:Sorties hivernales
ORGANIZER;CN="Thibaut%20VUILLARD":MAILTO:thibautvuillard@gmail.com
END:VEVENT
END:VCALENDAR