BEGIN:VCALENDAR
VERSION:2.0
PRODID:-//Club Vosgien Vallée de Saint-Amarin - ECPv6.1.3//NONSGML v1.0//EN
CALSCALE:GREGORIAN
METHOD:PUBLISH
X-WR-CALNAME:Club Vosgien Vallée de Saint-Amarin
X-ORIGINAL-URL:https://club-vosgien-saint-amarin.fr
X-WR-CALDESC:évènements pour Club Vosgien Vallée de Saint-Amarin
REFRESH-INTERVAL;VALUE=DURATION:PT1H
X-Robots-Tag:noindex
X-PUBLISHED-TTL:PT1H
BEGIN:VTIMEZONE
TZID:Europe/Paris
BEGIN:DAYLIGHT
TZOFFSETFROM:+0100
TZOFFSETTO:+0200
TZNAME:CEST
DTSTART:20230326T010000
END:DAYLIGHT
BEGIN:STANDARD
TZOFFSETFROM:+0200
TZOFFSETTO:+0100
TZNAME:CET
DTSTART:20231029T010000
END:STANDARD
END:VTIMEZONE
BEGIN:VEVENT
DTSTART;TZID=Europe/Paris:20230205T083000
DTEND;TZID=Europe/Paris:20230205T170000
DTSTAMP:20260423T145717
CREATED:20221007T175649Z
LAST-MODIFIED:20230131T155630Z
UID:13928-1675585800-1675616400@club-vosgien-saint-amarin.fr
SUMMARY:*** Randonnée hivernale le 05 FEVRIER 2023
DESCRIPTION:Descriptif du parcours: Mitzach – Entzenbach – Grunenwaldkopf – Kohlgrubenkopf – Rimachsattel – Vogelstein – Waldmatt – Thannerhubel – Gsang- Belacker – Col Dreimarkstein – Mitzach \nDistance du parcours : Distance approximative 22 km \nDénivelé du parcours : Dénivelé positif environ 1100 m \nRepas: Repas tiré du sac\, boissons achetées au refuge du SCV Thann au Thannerhubel \nHoraire et lieu de départ : 08h30\, Mitzach place de l’Eglise. \n         Guides et renseignements : C.Scherlen  06/74/98/48/26 \nDivers :\n– vitesse d’évolution visée 4 km/hr\, bonne condition physique nécessaire\n– le parcours est susceptible d’être modifié selon la météo du jour\n– être membre du CVSA\n– effectif limité à 15 personnes\, veuillez vous inscrire auprès du guide avant samedi 15hrs.
URL:https://club-vosgien-saint-amarin.fr/activite/sortie-hivernale-4/
LOCATION:Mitzach place de l’Eglise
CATEGORIES:Sorties hivernales
END:VEVENT
BEGIN:VEVENT
DTSTART;TZID=Europe/Paris:20230226T083000
DTEND;TZID=Europe/Paris:20230226T170000
DTSTAMP:20260423T145717
CREATED:20221025T201323Z
LAST-MODIFIED:20230202T174631Z
UID:14017-1677400200-1677430800@club-vosgien-saint-amarin.fr
SUMMARY:***/**** SORTIE HIVERNALE : Sur les hauteurs de Kruth - Dimanche 26 février 2023
DESCRIPTION:Le CVSA vous propose une sortie hivernale au départ de Kruth \nRdv 8h30 sur le parking de la gare de Kruth 68820. \nLa boucle de 20 kms environ présente 1000m de dénivelé positif\nKruth – Gomm – Treh – Breitfirst – Hahnenbrunnen – StrassHiessel  – Kruth \nLe repas sera tiré du sac au refuge du Hahnenbrunnen – Boissons à prendre sur place\nLe refuge propose de la bière\, du coca\, de l’eau\, du vin\, de la limonade et de la soupe. \nSuivant la météo\, se munir de raquettes ou de crampons.\nLe matériel sera précisé par sms quelques jours avant la sortie.\nSelon la météo\, le parcours pourrait être modifié. \nInscription obligatoire auprès de :\nMarie COUTROT au 06 07 13 05 38 ou par mail coutrotmarie@yahoo.fr – Veuillez indiquer votre numéro de portable\, si inscription par mail. \nDernier délai d’inscription : Samedi 25 février \nGuides : Marie COUTROT et Bernard ZSCHERNIG. \n=> Conditions pour participer à cette sortie:\n– Être membre du Club Vosgien Saint Amarin et à jour de sa cotisation (possibilité d’adhérer sur place) ;\n– Avoir déposé auprès du CVSA un certificat d’aptitude à la pratique de cette activité en cours de validité ;\n– Dans le cas contraire\, il est possible de souscrire une assurance sur place pour 2€.
URL:https://club-vosgien-saint-amarin.fr/activite/sortie-hivernale-kruth/
LOCATION:KRUTH place de la gare
CATEGORIES:Sorties hivernales
ATTACH;FMTTYPE=image/png:https://club-vosgien-saint-amarin.fr/wp-content/uploads/2022/10/Plan-carte-2.png
ORGANIZER;CN="Marie%20COUTROT":MAILTO:coutrotmarie@yahoo.fr
END:VEVENT
END:VCALENDAR