BEGIN:VCALENDAR
VERSION:2.0
PRODID:-//Club Vosgien Vallée de Saint-Amarin - ECPv6.1.3//NONSGML v1.0//EN
CALSCALE:GREGORIAN
METHOD:PUBLISH
X-WR-CALNAME:Club Vosgien Vallée de Saint-Amarin
X-ORIGINAL-URL:https://club-vosgien-saint-amarin.fr
X-WR-CALDESC:évènements pour Club Vosgien Vallée de Saint-Amarin
REFRESH-INTERVAL;VALUE=DURATION:PT1H
X-Robots-Tag:noindex
X-PUBLISHED-TTL:PT1H
BEGIN:VTIMEZONE
TZID:Europe/Paris
BEGIN:DAYLIGHT
TZOFFSETFROM:+0100
TZOFFSETTO:+0200
TZNAME:CEST
DTSTART:20260329T010000
END:DAYLIGHT
BEGIN:STANDARD
TZOFFSETFROM:+0200
TZOFFSETTO:+0100
TZNAME:CET
DTSTART:20261025T010000
END:STANDARD
END:VTIMEZONE
BEGIN:VEVENT
DTSTART;TZID=Europe/Paris:20260426T091500
DTEND;TZID=Europe/Paris:20260426T170000
DTSTAMP:20260426T015259
CREATED:20251124T175419Z
LAST-MODIFIED:20260424T194600Z
UID:22999-1777194900-1777222800@club-vosgien-saint-amarin.fr
SUMMARY:***/**** Randonnée - LES 3 LACS VOSGIENS                 SORTIE ANNULéE
DESCRIPTION:SORTIE ANNULéE \nLe CVSA vous invite à une sortie le 26 AVRIL 2026 \nLES 3 LACS VOSGIENS Randonnée pédestre journée \nDescriptif du parcours : les 3 lacs vosgiens\, Alfeld\, Neuweiher\, Perches. Gresson Joppelberg\, moyenne Bers\, rocher du corbeau\, col des perches\, haute Bers\, col des charbonniers\, Baerenbach\, Alfeld. \nDistance : 17 kms \nDénivelé positif : 880 mètres \nDifficulté : Moyenne T2 – Bonnes chaussures obligatoires \nRepas et boissons : tiré du sac vers le col des Perches. \nHoraire et lieu de départ : 9 h 15 sous le lac d’Alfeld (panneaux déviation sentier vers rocher du Knopen). Covoiturage possible départ CAP St Amarin rdv 8 h 15. \nGuide : VUILLARD Thibaut  \nInscription obligatoire : Auprès de Thibaut Téléphone : 06 74 43 95 24 ou par mail : mailto:thibautvuillard@gmail.com \nDate limite d’inscription : vendredi 24 avril 2026 \nConditions pour participer à cette sortie : \n\nÊtre membre du Club Vosgien de Saint-Amarin et à jour de cotisation (possibilité d’adhérer sur place) \nÊtre membre d’un autre CV \nNon-membre accepté moyennant la signature d’une “fiche de participation à une activité CVSA” justifiant de la non-contre-indication à la pratique d’une activité sportive et valable uniquement pour la sortie concernée (incluant une assurance\, coût 3 €).\nPapiers administratifs à porter sur soi (carte identité\, carte Vitale\, carte de membre CVSA ou autre CV)
URL:https://club-vosgien-saint-amarin.fr/activite/randonnee-ballon-dalsace-et-servance/
CATEGORIES:Randonnées
ORGANIZER;CN="Thibaut%20VUILLARD":MAILTO:thibautvuillard@gmail.com
END:VEVENT
END:VCALENDAR