BEGIN:VCALENDAR
VERSION:2.0
PRODID:-//Club Vosgien Vallée de Saint-Amarin - ECPv6.1.3//NONSGML v1.0//EN
CALSCALE:GREGORIAN
METHOD:PUBLISH
X-ORIGINAL-URL:https://club-vosgien-saint-amarin.fr
X-WR-CALDESC:évènements pour Club Vosgien Vallée de Saint-Amarin
REFRESH-INTERVAL;VALUE=DURATION:PT1H
X-Robots-Tag:noindex
X-PUBLISHED-TTL:PT1H
BEGIN:VTIMEZONE
TZID:Europe/Paris
BEGIN:DAYLIGHT
TZOFFSETFROM:+0100
TZOFFSETTO:+0200
TZNAME:CEST
DTSTART:20240331T010000
END:DAYLIGHT
BEGIN:STANDARD
TZOFFSETFROM:+0200
TZOFFSETTO:+0100
TZNAME:CET
DTSTART:20241027T010000
END:STANDARD
END:VTIMEZONE
BEGIN:VEVENT
DTSTART;TZID=Europe/Paris:20240210T080000
DTEND;TZID=Europe/Paris:20240210T170000
DTSTAMP:20260421T104541
CREATED:20231229T220604Z
LAST-MODIFIED:20240208T201648Z
UID:17116-1707552000-1707584400@club-vosgien-saint-amarin.fr
SUMMARY:Report de la sortie skating du 10 février
DESCRIPTION:L’hiver est capricieux\, le climat change !\n\nOn a beau espérer de la neige sur les montagnes\, elle ne sera malheureusement pas présente pour notre prochaine activité de ski prévue le 10 février.\n\nCette sortie\, ainsi que celle du 27 janvier  seront reportées lorsqu’il y aura de la neige. \n\nVous serez informés par mail.\n\nEn attendant les flocons\, l’équipe du CVSA vous souhaite bonne continuation pour vos activités.
URL:https://club-vosgien-saint-amarin.fr/activite/sortie-skating-2/
CATEGORIES:Sorties ski de fond
ORGANIZER;CN="Joseph%20PETER":MAILTO:mailpeterjoseph@gmail.com
END:VEVENT
END:VCALENDAR