BEGIN:VCALENDAR
VERSION:2.0
PRODID:-//Club Vosgien Vallée de Saint-Amarin - ECPv6.1.3//NONSGML v1.0//EN
CALSCALE:GREGORIAN
METHOD:PUBLISH
X-ORIGINAL-URL:https://club-vosgien-saint-amarin.fr
X-WR-CALDESC:évènements pour Club Vosgien Vallée de Saint-Amarin
REFRESH-INTERVAL;VALUE=DURATION:PT1H
X-Robots-Tag:noindex
X-PUBLISHED-TTL:PT1H
BEGIN:VTIMEZONE
TZID:Europe/Paris
BEGIN:DAYLIGHT
TZOFFSETFROM:+0100
TZOFFSETTO:+0200
TZNAME:CEST
DTSTART:20240331T010000
END:DAYLIGHT
BEGIN:STANDARD
TZOFFSETFROM:+0200
TZOFFSETTO:+0100
TZNAME:CET
DTSTART:20241027T010000
END:STANDARD
END:VTIMEZONE
BEGIN:VEVENT
DTSTART;TZID=Europe/Paris:20240127T080000
DTEND;TZID=Europe/Paris:20240127T170000
DTSTAMP:20260421T121349
CREATED:20231229T220311Z
LAST-MODIFIED:20240124T203620Z
UID:17112-1706342400-1706374800@club-vosgien-saint-amarin.fr
SUMMARY:***/**** SORTIE SKATING reportée à une date ultérieure
DESCRIPTION:Reportée à une date ultérieure par manque de neige
URL:https://club-vosgien-saint-amarin.fr/activite/sortie-skating/
CATEGORIES:Sorties ski de fond
ORGANIZER;CN="Joseph%20PETER":MAILTO:mailpeterjoseph@gmail.com
END:VEVENT
END:VCALENDAR